View In:
ArcGIS JavaScript
ArcGIS Online Map Viewer
ArcGIS Earth
ArcMap
View Footprint In:
ArcGIS Online Map Viewer
Service Description: OC_Watersheds/Illicit_Discharge_Bare_Earth_DEM_2016
Name: OC_Watersheds/Illicit_Discharge_Bare_Earth_DEM_2016
Description:
Single Fused Map Cache: false
Extent:
XMin: 6093236.999999996
YMin: 2090798.999999993
XMax: 6165245.999999996
YMax: 2195060.999999993
Spatial Reference: PROJCS["NAD_1983_StatePlane_California_VI_FIPS_0406",GEOGCS["GCS_North_American_1983",DATUM["D_North_American_1983",SPHEROID["GRS_1980",6378137.0,298.257222101]],PRIMEM["Greenwich",0.0],UNIT["Degree",0.0174532925199433]],PROJECTION["Lambert_Conformal_Conic"],PARAMETER["false_easting",6561666.666666667],PARAMETER["false_northing",1640416.666666667],PARAMETER["central_meridian",-116.25],PARAMETER["standard_parallel_1",32.78333333333333],PARAMETER["standard_parallel_2",33.88333333333333],PARAMETER["latitude_of_origin",32.16666666666666],UNIT["Foot_US",0.3048006096012192]]
Initial Extent:
XMin: 6093236.999999996
YMin: 2090798.999999993
XMax: 6165245.999999996
YMax: 2195060.999999993
Spatial Reference: PROJCS["NAD_1983_StatePlane_California_VI_FIPS_0406",GEOGCS["GCS_North_American_1983",DATUM["D_North_American_1983",SPHEROID["GRS_1980",6378137.0,298.257222101]],PRIMEM["Greenwich",0.0],UNIT["Degree",0.0174532925199433]],PROJECTION["Lambert_Conformal_Conic"],PARAMETER["false_easting",6561666.666666667],PARAMETER["false_northing",1640416.666666667],PARAMETER["central_meridian",-116.25],PARAMETER["standard_parallel_1",32.78333333333333],PARAMETER["standard_parallel_2",33.88333333333333],PARAMETER["latitude_of_origin",32.16666666666666],UNIT["Foot_US",0.3048006096012192]]
Full Extent:
XMin: 6093236.999999996
YMin: 2090798.999999993
XMax: 6165245.999999996
YMax: 2195060.999999993
Spatial Reference: PROJCS["NAD_1983_StatePlane_California_VI_FIPS_0406",GEOGCS["GCS_North_American_1983",DATUM["D_North_American_1983",SPHEROID["GRS_1980",6378137.0,298.257222101]],PRIMEM["Greenwich",0.0],UNIT["Degree",0.0174532925199433]],PROJECTION["Lambert_Conformal_Conic"],PARAMETER["false_easting",6561666.666666667],PARAMETER["false_northing",1640416.666666667],PARAMETER["central_meridian",-116.25],PARAMETER["standard_parallel_1",32.78333333333333],PARAMETER["standard_parallel_2",33.88333333333333],PARAMETER["latitude_of_origin",32.16666666666666],UNIT["Foot_US",0.3048006096012192]]
Pixel Size X: 1.5
Pixel Size Y: 1.5
Band Count: 1
Pixel Type: F32
RasterFunction Infos: {"rasterFunctionInfos": [
{
"name": "None",
"description": "Make a Raster or Raster Dataset into a Function Raster Dataset.",
"help": ""
},
{
"name": "Slope",
"description": "A raster function template.",
"help": ""
},
{
"name": "Hillshade",
"description": "A raster function template.",
"help": ""
},
{
"name": "Shaded_Relief",
"description": "Slope raster function (white to black)",
"help": ""
},
{
"name": "Shaded_Relief_Blue_to_Red",
"description": "A raster function template.",
"help": ""
}
]}
Mensuration Capabilities: Basic
Has Histograms: true
Has Colormap: false
Has Multi Dimensions : false
Rendering Rule:
Min Scale: 0
Max Scale: 0
Copyright Text:
Service Data Type: esriImageServiceDataTypeGeneric
Min Values: 0.23999999463558
Max Values: 1555.7900390625
Mean Values: 434.74736685426
Standard Deviation Values: 278.62656952771
Object ID Field:
Fields:
None
Default Mosaic Method: Center
Allowed Mosaic Methods:
SortField:
SortValue: null
Mosaic Operator: First
Default Compression Quality: 75
Default Resampling Method: Bilinear
Max Record Count: null
Max Image Height: 4100
Max Image Width: 15000
Max Download Image Count: null
Max Mosaic Image Count: null
Allow Raster Function: true
Allow Copy: true
Allow Analysis: true
Allow Compute TiePoints: false
Supports Statistics: false
Supports Advanced Queries: false
Use StandardizedQueries: true
Raster Type Infos:
Name: Raster Dataset
Description: Supports all ArcGIS Raster Datasets
Help:
Has Raster Attribute Table: false
Edit Fields Info: null
Ownership Based AccessControl For Rasters: null
Child Resources:
Info
Histograms
Statistics
Key Properties
Legend
Raster Function Infos
Supported Operations:
Export Image
Identify
Measure
Compute Histograms
Compute Statistics Histograms
Get Samples
Compute Class Statistics
Query Boundary
Compute Pixel Location
Compute Angles
Validate
Project