{
 "currentVersion": 10.91,
 "serviceDescription": "OC_Watersheds/Illicit_Discharge_Bare_Earth_DEM_2016",
 "name": "OC_Watersheds/Illicit_Discharge_Bare_Earth_DEM_2016",
 "description": "",
 "extent": {
  "xmin": 6093236.999999996,
  "ymin": 2090798.999999993,
  "xmax": 6165245.999999996,
  "ymax": 2195060.999999993,
  "spatialReference": {
   "wkt": "PROJCS[\"NAD_1983_StatePlane_California_VI_FIPS_0406\",GEOGCS[\"GCS_North_American_1983\",DATUM[\"D_North_American_1983\",SPHEROID[\"GRS_1980\",6378137.0,298.257222101]],PRIMEM[\"Greenwich\",0.0],UNIT[\"Degree\",0.0174532925199433]],PROJECTION[\"Lambert_Conformal_Conic\"],PARAMETER[\"false_easting\",6561666.666666667],PARAMETER[\"false_northing\",1640416.666666667],PARAMETER[\"central_meridian\",-116.25],PARAMETER[\"standard_parallel_1\",32.78333333333333],PARAMETER[\"standard_parallel_2\",33.88333333333333],PARAMETER[\"latitude_of_origin\",32.16666666666666],UNIT[\"Foot_US\",0.3048006096012192]]"
  }
 },
 "initialExtent": {
  "xmin": 6093236.999999996,
  "ymin": 2090798.999999993,
  "xmax": 6165245.999999996,
  "ymax": 2195060.999999993,
  "spatialReference": {
   "wkt": "PROJCS[\"NAD_1983_StatePlane_California_VI_FIPS_0406\",GEOGCS[\"GCS_North_American_1983\",DATUM[\"D_North_American_1983\",SPHEROID[\"GRS_1980\",6378137.0,298.257222101]],PRIMEM[\"Greenwich\",0.0],UNIT[\"Degree\",0.0174532925199433]],PROJECTION[\"Lambert_Conformal_Conic\"],PARAMETER[\"false_easting\",6561666.666666667],PARAMETER[\"false_northing\",1640416.666666667],PARAMETER[\"central_meridian\",-116.25],PARAMETER[\"standard_parallel_1\",32.78333333333333],PARAMETER[\"standard_parallel_2\",33.88333333333333],PARAMETER[\"latitude_of_origin\",32.16666666666666],UNIT[\"Foot_US\",0.3048006096012192]]"
  }
 },
 "fullExtent": {
  "xmin": 6093236.999999996,
  "ymin": 2090798.999999993,
  "xmax": 6165245.999999996,
  "ymax": 2195060.999999993,
  "spatialReference": {
   "wkt": "PROJCS[\"NAD_1983_StatePlane_California_VI_FIPS_0406\",GEOGCS[\"GCS_North_American_1983\",DATUM[\"D_North_American_1983\",SPHEROID[\"GRS_1980\",6378137.0,298.257222101]],PRIMEM[\"Greenwich\",0.0],UNIT[\"Degree\",0.0174532925199433]],PROJECTION[\"Lambert_Conformal_Conic\"],PARAMETER[\"false_easting\",6561666.666666667],PARAMETER[\"false_northing\",1640416.666666667],PARAMETER[\"central_meridian\",-116.25],PARAMETER[\"standard_parallel_1\",32.78333333333333],PARAMETER[\"standard_parallel_2\",33.88333333333333],PARAMETER[\"latitude_of_origin\",32.16666666666666],UNIT[\"Foot_US\",0.3048006096012192]]"
  }
 },
 "hasMultidimensions": false,
 "pixelSizeX": 1.5,
 "pixelSizeY": 1.5,
 "datasetFormat": "TIFF",
 "uncompressedSize": 13347204192,
 "blockWidth": 128,
 "blockHeight": 128,
 "compressionType": "LZW",
 "bandNames": [
  "Band_1"
 ],
 "allowCopy": true,
 "allowAnalysis": true,
 "bandCount": 1,
 "noDataValue": -3.4028234663852886E38,
 "noDataValues": [
  -3.4028234663852886E38
 ],
 "pixelType": "F32",
 "minPixelSize": 0,
 "maxPixelSize": 0,
 "copyrightText": "",
 "serviceDataType": "esriImageServiceDataTypeGeneric",
 "serviceSourceType": "esriImageServiceSourceTypeDataset",
 "minValues": [
  0.23999999463558
 ],
 "maxValues": [
  1555.7900390625
 ],
 "meanValues": [
  434.74736685426
 ],
 "stdvValues": [
  278.62656952771
 ],
 "objectIdField": "",
 "fields": [],
 "capabilities": "Mensuration,Image,Metadata",
 "defaultMosaicMethod": "Center",
 "allowedMosaicMethods": "",
 "sortField": "",
 "sortValue": null,
 "sortAscending": true,
 "mosaicOperator": "First",
 "defaultCompressionQuality": 75,
 "defaultResamplingMethod": "Bilinear",
 "maxImageHeight": 4100,
 "maxImageWidth": 15000,
 "allowRasterFunction": true,
 "rasterFunctionInfos": [
  {
   "name": "None",
   "description": "Make a Raster or Raster Dataset into a Function Raster Dataset.",
   "help": ""
  },
  {
   "name": "Slope",
   "description": "A raster function template.",
   "help": ""
  },
  {
   "name": "Hillshade",
   "description": "A raster function template.",
   "help": ""
  },
  {
   "name": "Shaded_Relief",
   "description": "Slope raster function (white to black)",
   "help": ""
  },
  {
   "name": "Shaded_Relief_Blue_to_Red",
   "description": "A raster function template.",
   "help": ""
  }
 ],
 "rasterTypeInfos": [
  {
   "name": "Raster Dataset",
   "description": "Supports all ArcGIS Raster Datasets",
   "help": ""
  }
 ],
 "mensurationCapabilities": "Basic",
 "hasHistograms": true,
 "hasColormap": false,
 "hasRasterAttributeTable": false,
 "minScale": 0,
 "maxScale": 0,
 "exportTilesAllowed": false,
 "supportsStatistics": false,
 "supportsAdvancedQueries": false,
 "editFieldsInfo": null,
 "ownershipBasedAccessControlForRasters": null,
 "allowComputeTiePoints": false,
 "useStandardizedQueries": true,
 "advancedQueryCapabilities": {
  "useStandardizedQueries": true,
  "supportsStatistics": false,
  "supportsOrderBy": false,
  "supportsDistinct": false,
  "supportsPagination": false
 },
 "spatialReference": {
  "wkt": "PROJCS[\"NAD_1983_StatePlane_California_VI_FIPS_0406\",GEOGCS[\"GCS_North_American_1983\",DATUM[\"D_North_American_1983\",SPHEROID[\"GRS_1980\",6378137.0,298.257222101]],PRIMEM[\"Greenwich\",0.0],UNIT[\"Degree\",0.0174532925199433]],PROJECTION[\"Lambert_Conformal_Conic\"],PARAMETER[\"false_easting\",6561666.666666667],PARAMETER[\"false_northing\",1640416.666666667],PARAMETER[\"central_meridian\",-116.25],PARAMETER[\"standard_parallel_1\",32.78333333333333],PARAMETER[\"standard_parallel_2\",33.88333333333333],PARAMETER[\"latitude_of_origin\",32.16666666666666],UNIT[\"Foot_US\",0.3048006096012192]]"
 }
}
