View In:
ArcGIS JavaScript
ArcGIS Online Map Viewer
ArcGIS Earth
Service Description: Wintersburg Channel Orthophoto: 03/29/2018
Name: Survey/Wintersburg_20180329
Description: Wintersburg Channel Orthophoto: 03/29/2018
Single Fused Map Cache: false
Extent:
XMin: 6020912.839864776
YMin: 2208122.717949503
XMax: 6026521.876182128
YMax: 2209668.659033803
Spatial Reference: 102646
(2230)
LatestVCSWkid(0)
Initial Extent:
XMin: 6020912.839864776
YMin: 2208122.717949503
XMax: 6026521.876182128
YMax: 2209668.659033803
Spatial Reference: 102646
(2230)
LatestVCSWkid(0)
Full Extent:
XMin: 6020912.839864776
YMin: 2208122.717949503
XMax: 6026521.876182128
YMax: 2209668.659033803
Spatial Reference: 102646
(2230)
LatestVCSWkid(0)
Pixel Size X: 0.07967947037931963
Pixel Size Y: 0.07967947037932699
Band Count: 4
Pixel Type: U8
RasterFunction Infos: {"rasterFunctionInfos": [{
"name": "None",
"description": "",
"help": ""
}]}
Mensuration Capabilities: Basic
Inspection Capabilities:
Has Histograms: true
Has Colormap: false
Has Multi Dimensions : false
Rendering Rule:
Min Scale: 0
Max Scale: 0
Resampling: false
Copyright Text: OC Survey
Service Data Type: esriImageServiceDataTypeGeneric
Min Values: 0, 0, 0, 0
Max Values: 255, 255, 255, 255
Mean Values: 63.8658567575, 63.118590015553, 60.656334869956, 132.21333705633
Standard Deviation Values: 76.85373340957, 75.151177702018, 73.412044684144, 127.4128504731
Object ID Field:
Fields:
None
Default Mosaic Method: Center
Allowed Mosaic Methods:
SortField:
SortValue: null
Mosaic Operator: First
Default Compression Quality: 75
Default Resampling Method: Bilinear
Max Record Count: null
Max Image Height: 4100
Max Image Width: 15000
Max Download Image Count: null
Max Mosaic Image Count: null
Allow Raster Function: true
Allow Copy: true
Allow Analysis: true
Allow Compute TiePoints: false
Supports Statistics: false
Supports Advanced Queries: false
Use StandardizedQueries: true
Raster Type Infos:
Name: Raster Dataset
Description: Supports all ArcGIS Raster Datasets
Help:
Has Raster Attribute Table: false
Edit Fields Info: null
Ownership Based AccessControl For Rasters: null
Child Resources:
Info
Histograms
Statistics
Key Properties
Legend
Raster Function Infos
Supported Operations:
Export Image
Identify
Measure
Compute Histograms
Compute Statistics Histograms
Get Samples
Compute Class Statistics
Query Boundary
Compute Pixel Location
Compute Angles
Validate
Project