{
 "currentVersion": 11.5,
 "serviceDescription": "Wintersburg Channel Orthophoto: 03/29/2018",
 "name": "Survey/Wintersburg_20180329",
 "description": "Wintersburg Channel Orthophoto: 03/29/2018",
 "extent": {
  "xmin": 6020912.839864776,
  "ymin": 2208122.717949503,
  "xmax": 6026521.876182128,
  "ymax": 2209668.659033803,
  "spatialReference": {
   "wkid": 102646,
   "latestWkid": 2230
  }
 },
 "initialExtent": {
  "xmin": 6020912.839864776,
  "ymin": 2208122.717949503,
  "xmax": 6026521.876182128,
  "ymax": 2209668.659033803,
  "spatialReference": {
   "wkid": 102646,
   "latestWkid": 2230
  }
 },
 "fullExtent": {
  "xmin": 6020912.839864776,
  "ymin": 2208122.717949503,
  "xmax": 6026521.876182128,
  "ymax": 2209668.659033803,
  "spatialReference": {
   "wkid": 102646,
   "latestWkid": 2230
  }
 },
 "sortableFields": "",
 "bandCount": 4,
 "pixelType": "U8",
 "minValues": [
  0,
  0,
  0,
  0
 ],
 "maxValues": [
  255,
  255,
  255,
  255
 ],
 "meanValues": [
  63.8658567575,
  63.118590015553,
  60.656334869956,
  132.21333705633
 ],
 "stdvValues": [
  76.85373340957,
  75.151177702018,
  73.412044684144,
  127.4128504731
 ],
 "serviceProperties": "Center<\/MosaicMethod>First<\/MosaicOperator>true<\/SortAscending><\/LockImageID><\/TileOrderField>0<\/TileOrderBase>0.000000<\/AvgImageSpacingX>0.000000<\/AvgImageSpacingY>0.0<\/ViewPointX>0.0<\/ViewPointY>0.0<\/ViewPointDefShiftX>0.0<\/ViewPointDefShiftY>None<\/CompressionMethod>75<\/CompressionQuality>0.010000<\/CompressionTolerance>Bilinear<\/SamplingMethod><\/ImageServiceProperties><\/ImageServer>",
 "allowedFields": "",
 "hasMultidimensions": false,
 "pixelSizeX": 0.07967947037931963,
 "pixelSizeY": 0.07967947037932699,
 "meanPixelSize": 0.024286351144320036,
 "datasetFormat": "TIFF",
 "uncompressedSize": 5463215160,
 "blockWidth": 128,
 "blockHeight": 128,
 "compressionType": "None",
 "bandNames": [
  "Band_1",
  "Band_2",
  "Band_3",
  "Band_4"
 ],
 "allowCopy": true,
 "allowAnalysis": true,
 "itemAccess": false,
 "inspectionCapabilities": "",
 "noDataValue": 0,
 "noDataValues": [
  0,
  0,
  0,
  0
 ],
 "minPixelSize": 0,
 "maxPixelSize": 0,
 "copyrightText": "OC Survey",
 "serviceDataType": "esriImageServiceDataTypeGeneric",
 "serviceSourceType": "esriImageServiceSourceTypeDataset",
 "objectIdField": "",
 "fields": [],
 "capabilities": "Mensuration,Image,Metadata",
 "defaultMosaicMethod": "Center",
 "allowedMosaicMethods": "",
 "sortField": "",
 "sortValue": null,
 "sortAscending": true,
 "mosaicOperator": "First",
 "defaultCompressionQuality": 75,
 "defaultResamplingMethod": "Bilinear",
 "maxImageHeight": 4100,
 "maxImageWidth": 15000,
 "allowRasterFunction": true,
 "rasterFunctionInfos": [
  {
   "name": "None",
   "description": "",
   "help": ""
  }
 ],
 "rasterTypeInfos": [
  {
   "name": "Raster Dataset",
   "description": "Supports all ArcGIS Raster Datasets",
   "help": ""
  }
 ],
 "mensurationCapabilities": "Basic",
 "hasHistograms": true,
 "hasColormap": false,
 "hasRasterAttributeTable": false,
 "minScale": 0,
 "maxScale": 0,
 "exportTilesAllowed": false,
 "supportsStatistics": false,
 "supportsAdvancedQueries": false,
 "editFieldsInfo": null,
 "ownershipBasedAccessControlForRasters": null,
 "allowComputeTiePoints": false,
 "useStandardizedQueries": true,
 "advancedQueryCapabilities": {
  "useStandardizedQueries": true,
  "supportsStatistics": false,
  "supportsOrderBy": false,
  "supportsDistinct": false,
  "supportsPagination": false
 },
 "spatialReference": {
  "wkid": 102646,
  "latestWkid": 2230
 },
 "resampling": false
}
