View In:
ArcGIS JavaScript
ArcGIS Online Map Viewer
ArcGIS Earth
Service Description: Trabuco Adobe Survey, 5/13/2021
Name: Parks/20210513_Trabuco_Adobe_6425
Description: Trabuco Adobe Survey, 5/13/2021
Single Fused Map Cache: false
Extent:
XMin: 1872244.5766149794
YMin: 660744.2140833468
XMax: 1872603.7908183194
YMax: 661152.7351745868
Spatial Reference: 0
(0)
LatestVCSWkid(0)
Initial Extent:
XMin: 1872244.5766149794
YMin: 660744.2140833468
XMax: 1872603.7908183194
YMax: 661152.7351745868
Spatial Reference: 0
(0)
LatestVCSWkid(0)
Full Extent:
XMin: 1872244.5766149794
YMin: 660744.2140833468
XMax: 1872603.7908183194
YMax: 661152.7351745868
Spatial Reference: 0
(0)
LatestVCSWkid(0)
Pixel Size X: 0.009491220000000036
Pixel Size Y: 0.009491219999999826
Band Count: 4
Pixel Type: U8
RasterFunction Infos: {"rasterFunctionInfos": [
{
"name": "RGB Aliso Alpha Composite",
"description": "A raster function template.",
"help": ""
},
{
"name": "None",
"description": "",
"help": ""
}
]}
Mensuration Capabilities: Basic
Inspection Capabilities:
Has Histograms: false
Has Colormap: false
Has Multi Dimensions : false
Rendering Rule:
Min Scale: 0
Max Scale: 0
Resampling: false
Copyright Text: OC Survey
Service Data Type: esriImageServiceDataTypeGeneric
Min Values: N/A
Max Values: N/A
Mean Values: N/A
Standard Deviation Values: N/A
Object ID Field:
Fields:
None
Default Mosaic Method: Center
Allowed Mosaic Methods:
SortField:
SortValue: null
Mosaic Operator: First
Default Compression Quality: 75
Default Resampling Method: Bilinear
Max Record Count: null
Max Image Height: 4100
Max Image Width: 15000
Max Download Image Count: null
Max Mosaic Image Count: null
Allow Raster Function: true
Allow Copy: true
Allow Analysis: true
Allow Compute TiePoints: false
Supports Statistics: false
Supports Advanced Queries: false
Use StandardizedQueries: true
Raster Type Infos:
Name: Raster Dataset
Description: Supports all ArcGIS Raster Datasets
Help:
Has Raster Attribute Table: false
Edit Fields Info: null
Ownership Based AccessControl For Rasters: null
Child Resources:
Info
Statistics
Key Properties
Legend
Raster Function Infos
Supported Operations:
Export Image
Identify
Measure
Compute Histograms
Compute Statistics Histograms
Get Samples
Compute Class Statistics
Query Boundary
Compute Pixel Location
Compute Angles
Validate
Project