{
 "currentVersion": 11.5,
 "serviceDescription": "Trabuco Adobe Survey, 5/13/2021",
 "name": "Parks/20210513_Trabuco_Adobe_6425",
 "description": "Trabuco Adobe Survey, 5/13/2021",
 "extent": {
  "xmin": 1872244.5766149794,
  "ymin": 660744.2140833468,
  "xmax": 1872603.7908183194,
  "ymax": 661152.7351745868,
  "spatialReference": {
   "wkt2": "COMPOUNDCRS[\"\",PROJCRS[\"NAD_1983_2011_StatePlane_California_VI_FIPS_0406\",BASEGEOGCRS[\"GCS_NAD_1983_2011\",DYNAMIC[FRAMEEPOCH[2010.0],MODEL[\"HTDP\"]],DATUM[\"D_NAD_1983_2011\",ELLIPSOID[\"GRS_1980\",6378137.0,298.257222101,LENGTHUNIT[\"Meter\",1.0]]],PRIMEM[\"Greenwich\",0.0,ANGLEUNIT[\"Degree\",0.0174532925199433]],CS[ellipsoidal,2],AXIS[\"Latitude (lat)\",north,ORDER[1]],AXIS[\"Longitude (lon)\",east,ORDER[2]],ANGLEUNIT[\"Degree\",0.0174532925199433]],CONVERSION[\"Lambert_Conformal_Conic\",METHOD[\"Lambert_Conformal_Conic\"],PARAMETER[\"False_Easting\",2000000.0,LENGTHUNIT[\"Meter\",1.0]],PARAMETER[\"False_Northing\",500000.0,LENGTHUNIT[\"Meter\",1.0]],PARAMETER[\"Central_Meridian\",-116.25,ANGLEUNIT[\"Degree\",0.0174532925199433]],PARAMETER[\"Standard_Parallel_1\",32.78333333333333,ANGLEUNIT[\"Degree\",0.0174532925199433]],PARAMETER[\"Standard_Parallel_2\",33.88333333333333,ANGLEUNIT[\"Degree\",0.0174532925199433]],PARAMETER[\"Latitude_Of_Origin\",32.16666666666666,ANGLEUNIT[\"Degree\",0.0174532925199433]]],CS[Cartesian,2],AXIS[\"Easting (X)\",east,ORDER[1]],AXIS[\"Northing (Y)\",north,ORDER[2]],LENGTHUNIT[\"Meter\",1.0]],VERTCRS[\"unknown\",VDATUM[\"unknown\"],CS[vertical,1],AXIS[\"Gravity-related height (H)\",up,LENGTHUNIT[\"Meter\",1.0]]]]",
   "wkt": "PROJCS[\"NAD_1983_2011_StatePlane_California_VI_FIPS_0406\",GEOGCS[\"GCS_NAD_1983_2011\",DATUM[\"D_NAD_1983_2011\",SPHEROID[\"GRS_1980\",6378137.0,298.257222101]],PRIMEM[\"Greenwich\",0.0],UNIT[\"Degree\",0.0174532925199433]],PROJECTION[\"Lambert_Conformal_Conic\"],PARAMETER[\"False_Easting\",2000000.0],PARAMETER[\"False_Northing\",500000.0],PARAMETER[\"Central_Meridian\",-116.25],PARAMETER[\"Standard_Parallel_1\",32.78333333333333],PARAMETER[\"Standard_Parallel_2\",33.88333333333333],PARAMETER[\"Latitude_Of_Origin\",32.16666666666666],UNIT[\"Meter\",1.0]],VERTCS[\"unknown\",VDATUM[\"unknown\"],PARAMETER[\"Vertical_Shift\",0.0],PARAMETER[\"Direction\",1.0],UNIT[\"Meter\",1.0]]"
  }
 },
 "initialExtent": {
  "xmin": 1872244.5766149794,
  "ymin": 660744.2140833468,
  "xmax": 1872603.7908183194,
  "ymax": 661152.7351745868,
  "spatialReference": {
   "wkt2": "COMPOUNDCRS[\"\",PROJCRS[\"NAD_1983_2011_StatePlane_California_VI_FIPS_0406\",BASEGEOGCRS[\"GCS_NAD_1983_2011\",DYNAMIC[FRAMEEPOCH[2010.0],MODEL[\"HTDP\"]],DATUM[\"D_NAD_1983_2011\",ELLIPSOID[\"GRS_1980\",6378137.0,298.257222101,LENGTHUNIT[\"Meter\",1.0]]],PRIMEM[\"Greenwich\",0.0,ANGLEUNIT[\"Degree\",0.0174532925199433]],CS[ellipsoidal,2],AXIS[\"Latitude (lat)\",north,ORDER[1]],AXIS[\"Longitude (lon)\",east,ORDER[2]],ANGLEUNIT[\"Degree\",0.0174532925199433]],CONVERSION[\"Lambert_Conformal_Conic\",METHOD[\"Lambert_Conformal_Conic\"],PARAMETER[\"False_Easting\",2000000.0,LENGTHUNIT[\"Meter\",1.0]],PARAMETER[\"False_Northing\",500000.0,LENGTHUNIT[\"Meter\",1.0]],PARAMETER[\"Central_Meridian\",-116.25,ANGLEUNIT[\"Degree\",0.0174532925199433]],PARAMETER[\"Standard_Parallel_1\",32.78333333333333,ANGLEUNIT[\"Degree\",0.0174532925199433]],PARAMETER[\"Standard_Parallel_2\",33.88333333333333,ANGLEUNIT[\"Degree\",0.0174532925199433]],PARAMETER[\"Latitude_Of_Origin\",32.16666666666666,ANGLEUNIT[\"Degree\",0.0174532925199433]]],CS[Cartesian,2],AXIS[\"Easting (X)\",east,ORDER[1]],AXIS[\"Northing (Y)\",north,ORDER[2]],LENGTHUNIT[\"Meter\",1.0]],VERTCRS[\"unknown\",VDATUM[\"unknown\"],CS[vertical,1],AXIS[\"Gravity-related height (H)\",up,LENGTHUNIT[\"Meter\",1.0]]]]",
   "wkt": "PROJCS[\"NAD_1983_2011_StatePlane_California_VI_FIPS_0406\",GEOGCS[\"GCS_NAD_1983_2011\",DATUM[\"D_NAD_1983_2011\",SPHEROID[\"GRS_1980\",6378137.0,298.257222101]],PRIMEM[\"Greenwich\",0.0],UNIT[\"Degree\",0.0174532925199433]],PROJECTION[\"Lambert_Conformal_Conic\"],PARAMETER[\"False_Easting\",2000000.0],PARAMETER[\"False_Northing\",500000.0],PARAMETER[\"Central_Meridian\",-116.25],PARAMETER[\"Standard_Parallel_1\",32.78333333333333],PARAMETER[\"Standard_Parallel_2\",33.88333333333333],PARAMETER[\"Latitude_Of_Origin\",32.16666666666666],UNIT[\"Meter\",1.0]],VERTCS[\"unknown\",VDATUM[\"unknown\"],PARAMETER[\"Vertical_Shift\",0.0],PARAMETER[\"Direction\",1.0],UNIT[\"Meter\",1.0]]"
  }
 },
 "fullExtent": {
  "xmin": 1872244.5766149794,
  "ymin": 660744.2140833468,
  "xmax": 1872603.7908183194,
  "ymax": 661152.7351745868,
  "spatialReference": {
   "wkt2": "COMPOUNDCRS[\"\",PROJCRS[\"NAD_1983_2011_StatePlane_California_VI_FIPS_0406\",BASEGEOGCRS[\"GCS_NAD_1983_2011\",DYNAMIC[FRAMEEPOCH[2010.0],MODEL[\"HTDP\"]],DATUM[\"D_NAD_1983_2011\",ELLIPSOID[\"GRS_1980\",6378137.0,298.257222101,LENGTHUNIT[\"Meter\",1.0]]],PRIMEM[\"Greenwich\",0.0,ANGLEUNIT[\"Degree\",0.0174532925199433]],CS[ellipsoidal,2],AXIS[\"Latitude (lat)\",north,ORDER[1]],AXIS[\"Longitude (lon)\",east,ORDER[2]],ANGLEUNIT[\"Degree\",0.0174532925199433]],CONVERSION[\"Lambert_Conformal_Conic\",METHOD[\"Lambert_Conformal_Conic\"],PARAMETER[\"False_Easting\",2000000.0,LENGTHUNIT[\"Meter\",1.0]],PARAMETER[\"False_Northing\",500000.0,LENGTHUNIT[\"Meter\",1.0]],PARAMETER[\"Central_Meridian\",-116.25,ANGLEUNIT[\"Degree\",0.0174532925199433]],PARAMETER[\"Standard_Parallel_1\",32.78333333333333,ANGLEUNIT[\"Degree\",0.0174532925199433]],PARAMETER[\"Standard_Parallel_2\",33.88333333333333,ANGLEUNIT[\"Degree\",0.0174532925199433]],PARAMETER[\"Latitude_Of_Origin\",32.16666666666666,ANGLEUNIT[\"Degree\",0.0174532925199433]]],CS[Cartesian,2],AXIS[\"Easting (X)\",east,ORDER[1]],AXIS[\"Northing (Y)\",north,ORDER[2]],LENGTHUNIT[\"Meter\",1.0]],VERTCRS[\"unknown\",VDATUM[\"unknown\"],CS[vertical,1],AXIS[\"Gravity-related height (H)\",up,LENGTHUNIT[\"Meter\",1.0]]]]",
   "wkt": "PROJCS[\"NAD_1983_2011_StatePlane_California_VI_FIPS_0406\",GEOGCS[\"GCS_NAD_1983_2011\",DATUM[\"D_NAD_1983_2011\",SPHEROID[\"GRS_1980\",6378137.0,298.257222101]],PRIMEM[\"Greenwich\",0.0],UNIT[\"Degree\",0.0174532925199433]],PROJECTION[\"Lambert_Conformal_Conic\"],PARAMETER[\"False_Easting\",2000000.0],PARAMETER[\"False_Northing\",500000.0],PARAMETER[\"Central_Meridian\",-116.25],PARAMETER[\"Standard_Parallel_1\",32.78333333333333],PARAMETER[\"Standard_Parallel_2\",33.88333333333333],PARAMETER[\"Latitude_Of_Origin\",32.16666666666666],UNIT[\"Meter\",1.0]],VERTCS[\"unknown\",VDATUM[\"unknown\"],PARAMETER[\"Vertical_Shift\",0.0],PARAMETER[\"Direction\",1.0],UNIT[\"Meter\",1.0]]"
  }
 },
 "sortableFields": "",
 "heightModelInfo": {
  "heightModel": "gravity_related_height",
  "vertCRS": "unknown",
  "heightUnit": "meter"
 },
 "bandCount": 4,
 "pixelType": "U8",
 "minValues": [],
 "maxValues": [],
 "meanValues": [],
 "stdvValues": [],
 "serviceProperties": "Center<\/MosaicMethod>First<\/MosaicOperator>true<\/SortAscending><\/LockImageID><\/TileOrderField>0<\/TileOrderBase>0.000000<\/AvgImageSpacingX>0.000000<\/AvgImageSpacingY>0.0<\/ViewPointX>0.0<\/ViewPointY>0.0<\/ViewPointDefShiftX>0.0<\/ViewPointDefShiftY>None<\/CompressionMethod>75<\/CompressionQuality>0.010000<\/CompressionTolerance>Bilinear<\/SamplingMethod><\/ImageServiceProperties><\/ImageServer>",
 "allowedFields": "",
 "hasMultidimensions": false,
 "pixelSizeX": 0.009491220000000036,
 "pixelSizeY": 0.009491219999999826,
 "meanPixelSize": 0.009491219999999932,
 "datasetFormat": "TIFF",
 "uncompressedSize": 6516042296,
 "blockWidth": 256,
 "blockHeight": 256,
 "compressionType": "LZW",
 "bandNames": [
  "Band_1",
  "Band_2",
  "Band_3",
  "Band_4"
 ],
 "allowCopy": true,
 "allowAnalysis": true,
 "itemAccess": false,
 "inspectionCapabilities": "",
 "minPixelSize": 0,
 "maxPixelSize": 0,
 "copyrightText": "OC Survey",
 "serviceDataType": "esriImageServiceDataTypeGeneric",
 "serviceSourceType": "esriImageServiceSourceTypeDataset",
 "objectIdField": "",
 "fields": [],
 "capabilities": "Mensuration,Image,Metadata",
 "defaultMosaicMethod": "Center",
 "allowedMosaicMethods": "",
 "sortField": "",
 "sortValue": null,
 "sortAscending": true,
 "mosaicOperator": "First",
 "defaultCompressionQuality": 75,
 "defaultResamplingMethod": "Bilinear",
 "maxImageHeight": 4100,
 "maxImageWidth": 15000,
 "allowRasterFunction": true,
 "rasterFunctionInfos": [
  {
   "name": "RGB Aliso Alpha Composite",
   "description": "A raster function template.",
   "help": ""
  },
  {
   "name": "None",
   "description": "",
   "help": ""
  }
 ],
 "rasterTypeInfos": [
  {
   "name": "Raster Dataset",
   "description": "Supports all ArcGIS Raster Datasets",
   "help": ""
  }
 ],
 "mensurationCapabilities": "Basic",
 "hasHistograms": false,
 "hasColormap": false,
 "hasRasterAttributeTable": false,
 "minScale": 0,
 "maxScale": 0,
 "exportTilesAllowed": false,
 "supportsStatistics": false,
 "supportsAdvancedQueries": false,
 "editFieldsInfo": null,
 "ownershipBasedAccessControlForRasters": null,
 "allowComputeTiePoints": false,
 "useStandardizedQueries": true,
 "advancedQueryCapabilities": {
  "useStandardizedQueries": true,
  "supportsStatistics": false,
  "supportsOrderBy": false,
  "supportsDistinct": false,
  "supportsPagination": false
 },
 "spatialReference": {
  "wkt2": "COMPOUNDCRS[\"\",PROJCRS[\"NAD_1983_2011_StatePlane_California_VI_FIPS_0406\",BASEGEOGCRS[\"GCS_NAD_1983_2011\",DYNAMIC[FRAMEEPOCH[2010.0],MODEL[\"HTDP\"]],DATUM[\"D_NAD_1983_2011\",ELLIPSOID[\"GRS_1980\",6378137.0,298.257222101,LENGTHUNIT[\"Meter\",1.0]]],PRIMEM[\"Greenwich\",0.0,ANGLEUNIT[\"Degree\",0.0174532925199433]],CS[ellipsoidal,2],AXIS[\"Latitude (lat)\",north,ORDER[1]],AXIS[\"Longitude (lon)\",east,ORDER[2]],ANGLEUNIT[\"Degree\",0.0174532925199433]],CONVERSION[\"Lambert_Conformal_Conic\",METHOD[\"Lambert_Conformal_Conic\"],PARAMETER[\"False_Easting\",2000000.0,LENGTHUNIT[\"Meter\",1.0]],PARAMETER[\"False_Northing\",500000.0,LENGTHUNIT[\"Meter\",1.0]],PARAMETER[\"Central_Meridian\",-116.25,ANGLEUNIT[\"Degree\",0.0174532925199433]],PARAMETER[\"Standard_Parallel_1\",32.78333333333333,ANGLEUNIT[\"Degree\",0.0174532925199433]],PARAMETER[\"Standard_Parallel_2\",33.88333333333333,ANGLEUNIT[\"Degree\",0.0174532925199433]],PARAMETER[\"Latitude_Of_Origin\",32.16666666666666,ANGLEUNIT[\"Degree\",0.0174532925199433]]],CS[Cartesian,2],AXIS[\"Easting (X)\",east,ORDER[1]],AXIS[\"Northing (Y)\",north,ORDER[2]],LENGTHUNIT[\"Meter\",1.0]],VERTCRS[\"unknown\",VDATUM[\"unknown\"],CS[vertical,1],AXIS[\"Gravity-related height (H)\",up,LENGTHUNIT[\"Meter\",1.0]]]]",
  "wkt": "PROJCS[\"NAD_1983_2011_StatePlane_California_VI_FIPS_0406\",GEOGCS[\"GCS_NAD_1983_2011\",DATUM[\"D_NAD_1983_2011\",SPHEROID[\"GRS_1980\",6378137.0,298.257222101]],PRIMEM[\"Greenwich\",0.0],UNIT[\"Degree\",0.0174532925199433]],PROJECTION[\"Lambert_Conformal_Conic\"],PARAMETER[\"False_Easting\",2000000.0],PARAMETER[\"False_Northing\",500000.0],PARAMETER[\"Central_Meridian\",-116.25],PARAMETER[\"Standard_Parallel_1\",32.78333333333333],PARAMETER[\"Standard_Parallel_2\",33.88333333333333],PARAMETER[\"Latitude_Of_Origin\",32.16666666666666],UNIT[\"Meter\",1.0]],VERTCS[\"unknown\",VDATUM[\"unknown\"],PARAMETER[\"Vertical_Shift\",0.0],PARAMETER[\"Direction\",1.0],UNIT[\"Meter\",1.0]]"
 },
 "resampling": false
}
