View In:
ArcGIS JavaScript
ArcGIS Online Map Viewer
ArcGIS Earth
ArcMap
View Footprint In:
ArcGIS Online Map Viewer
Service Description: JWA/JWA_JWAUSER_Avigation
Name: JWA/JWA_JWAUSER_Avigation
Description:
Single Fused Map Cache: false
Extent:
XMin: -1.3134492419827601E7
YMin: 3965702.274572403
XMax: -1.3107807190372402E7
YMax: 4004720.120030802
Spatial Reference: 102100
(3857)
VCSWkid(115700)
LatestVCSWkid(115700)
Initial Extent:
XMin: -1.3134492419827601E7
YMin: 3965702.274572403
XMax: -1.3107807190372402E7
YMax: 4004720.120030802
Spatial Reference: 102100
(3857)
VCSWkid(115700)
LatestVCSWkid(115700)
Full Extent:
XMin: -1.3134492419827601E7
YMin: 3965702.274572403
XMax: -1.3107807190372402E7
YMax: 4004720.120030802
Spatial Reference: 102100
(3857)
VCSWkid(115700)
LatestVCSWkid(115700)
Pixel Size X: 106.31565519999639
Pixel Size Y: 106.31565519999738
Band Count: 1
Pixel Type: F32
RasterFunction Infos: {"rasterFunctionInfos": [{
"name": "None",
"description": "",
"help": ""
}]}
Mensuration Capabilities: Basic
Has Histograms: true
Has Colormap: false
Has Multi Dimensions : false
Rendering Rule:
Min Scale: 0
Max Scale: 0
Copyright Text:
Service Data Type: esriImageServiceDataTypeGeneric
Min Values: 12.41190242767334
Max Values: 599.124755859375
Mean Values: 227.39416882468026
Standard Deviation Values: 136.89847862831758
Object ID Field:
Fields:
None
Default Mosaic Method: Center
Allowed Mosaic Methods:
SortField:
SortValue: null
Mosaic Operator: First
Default Compression Quality: 75
Default Resampling Method: Bilinear
Max Record Count: null
Max Image Height: 4100
Max Image Width: 15000
Max Download Image Count: null
Max Mosaic Image Count: null
Allow Raster Function: true
Allow Copy: true
Allow Analysis: true
Allow Compute TiePoints: false
Supports Statistics: false
Supports Advanced Queries: false
Use StandardizedQueries: true
Raster Type Infos:
Name: Raster Dataset
Description: Supports all ArcGIS Raster Datasets
Help:
Has Raster Attribute Table: false
Edit Fields Info: null
Ownership Based AccessControl For Rasters: null
Child Resources:
Info
Histograms
Statistics
Key Properties
Legend
Raster Function Infos
Supported Operations:
Export Image
Identify
Measure
Compute Histograms
Compute Statistics Histograms
Get Samples
Compute Class Statistics
Query Boundary
Compute Pixel Location
Compute Angles
Validate
Project