View In:
ArcGIS JavaScript
ArcGIS Online Map Viewer
ArcGIS Earth
ArcMap
View Footprint In:
ArcGIS Online Map Viewer
Service Description: Environmental_Resources/OC_Imperviousness_Descriptor
Name: Environmental_Resources/OC_Imperviousness_Descriptor
Description:
Single Fused Map Cache: false
Extent:
XMin: 5993238.654294628
YMin: 2087135.2788519112
XMax: 6207831.699137931
YMax: 2292505.2736036587
Spatial Reference: 102646
(2230)
Initial Extent:
XMin: 5993238.654294628
YMin: 2087135.2788519112
XMax: 6207831.699137931
YMax: 2292505.2736036587
Spatial Reference: 102646
(2230)
Full Extent:
XMin: 5993238.654294628
YMin: 2087135.2788519112
XMax: 6207831.699137931
YMax: 2292505.2736036587
Spatial Reference: 102646
(2230)
Pixel Size X: 9.842814642844832
Pixel Size Y: 9.842798694068893
Band Count: 3
Pixel Type: U8
RasterFunction Infos: {"rasterFunctionInfos": [{
"name": "None",
"description": "",
"help": ""
}]}
Mensuration Capabilities: Basic
Has Histograms: false
Has Colormap: false
Has Multi Dimensions : false
Rendering Rule:
Min Scale: 0
Max Scale: 0
Copyright Text:
Service Data Type: esriImageServiceDataTypeThematic
Min Values: N/A
Max Values: N/A
Mean Values: N/A
Standard Deviation Values: N/A
Object ID Field:
Fields:
None
Default Mosaic Method: Center
Allowed Mosaic Methods:
SortField:
SortValue: null
Mosaic Operator: First
Default Compression Quality: 75
Default Resampling Method: Bilinear
Max Record Count: null
Max Image Height: 4100
Max Image Width: 15000
Max Download Image Count: null
Max Mosaic Image Count: null
Allow Raster Function: true
Allow Copy: true
Allow Analysis: true
Allow Compute TiePoints: false
Supports Statistics: false
Supports Advanced Queries: false
Use StandardizedQueries: true
Raster Type Infos:
Name: Raster Dataset
Description: Supports all ArcGIS Raster Datasets
Help:
Has Raster Attribute Table: false
Edit Fields Info: null
Ownership Based AccessControl For Rasters: null
Child Resources:
Info
Statistics
Key Properties
Legend
Raster Function Infos
Supported Operations:
Export Image
Identify
Measure
Compute Histograms
Compute Statistics Histograms
Get Samples
Compute Class Statistics
Query Boundary
Compute Pixel Location
Compute Angles
Validate
Project