View In:
ArcGIS JavaScript
ArcGIS Online Map Viewer
ArcGIS Earth
ArcMap
View Footprint In:
ArcGIS Online Map Viewer
Service Description: Orange County DEM, 1 Meter Resolution (2020 Version)
Name: Elevation/oc_dem_1m_2020
Description: Orange County DEM, 1 Meter Resolution (2020 Version)
Single Fused Map Cache: false
Extent:
XMin: 5971623.854669109
YMin: 2072195.4497345372
XMax: 6236079.243709109
YMax: 2336644.277094537
Spatial Reference: PROJCS["NAD_1983_StatePlane_California_VI_FIPS_0406_Feet",GEOGCS["GCS_North_American_1983",DATUM["D_North_American_1983",SPHEROID["GRS_1980",6378137.0,298.257222101]],PRIMEM["Greenwich",0.0],UNIT["Degree",0.0174532925199433]],PROJECTION["Lambert_Conformal_Conic"],PARAMETER["False_Easting",6561666.666666666],PARAMETER["False_Northing",1640416.666666667],PARAMETER["Central_Meridian",-116.25],PARAMETER["Standard_Parallel_1",32.78333333333333],PARAMETER["Standard_Parallel_2",33.88333333333333],PARAMETER["Latitude_Of_Origin",32.16666666666666],UNIT["Foot_US",0.3048006096012192]],VERTCS["unknown",VDATUM["unknown"],PARAMETER["Vertical_Shift",0.0],PARAMETER["Direction",1.0],UNIT["Foot_US",0.3048006096012192]]
Initial Extent:
XMin: 5971623.854669109
YMin: 2072195.4497345372
XMax: 6236079.243709109
YMax: 2336644.277094537
Spatial Reference: PROJCS["NAD_1983_StatePlane_California_VI_FIPS_0406_Feet",GEOGCS["GCS_North_American_1983",DATUM["D_North_American_1983",SPHEROID["GRS_1980",6378137.0,298.257222101]],PRIMEM["Greenwich",0.0],UNIT["Degree",0.0174532925199433]],PROJECTION["Lambert_Conformal_Conic"],PARAMETER["False_Easting",6561666.666666666],PARAMETER["False_Northing",1640416.666666667],PARAMETER["Central_Meridian",-116.25],PARAMETER["Standard_Parallel_1",32.78333333333333],PARAMETER["Standard_Parallel_2",33.88333333333333],PARAMETER["Latitude_Of_Origin",32.16666666666666],UNIT["Foot_US",0.3048006096012192]],VERTCS["unknown",VDATUM["unknown"],PARAMETER["Vertical_Shift",0.0],PARAMETER["Direction",1.0],UNIT["Foot_US",0.3048006096012192]]
Full Extent:
XMin: 5971623.854669109
YMin: 2072195.4497345372
XMax: 6236079.243709109
YMax: 2336644.277094537
Spatial Reference: PROJCS["NAD_1983_StatePlane_California_VI_FIPS_0406_Feet",GEOGCS["GCS_North_American_1983",DATUM["D_North_American_1983",SPHEROID["GRS_1980",6378137.0,298.257222101]],PRIMEM["Greenwich",0.0],UNIT["Degree",0.0174532925199433]],PROJECTION["Lambert_Conformal_Conic"],PARAMETER["False_Easting",6561666.666666666],PARAMETER["False_Northing",1640416.666666667],PARAMETER["Central_Meridian",-116.25],PARAMETER["Standard_Parallel_1",32.78333333333333],PARAMETER["Standard_Parallel_2",33.88333333333333],PARAMETER["Latitude_Of_Origin",32.16666666666666],UNIT["Foot_US",0.3048006096012192]],VERTCS["unknown",VDATUM["unknown"],PARAMETER["Vertical_Shift",0.0],PARAMETER["Direction",1.0],UNIT["Foot_US",0.3048006096012192]]
Pixel Size X: 3.2808399999999978
Pixel Size Y: 3.280839999999997
Band Count: 1
Pixel Type: F32
RasterFunction Infos: {"rasterFunctionInfos": [
{
"name": "None",
"description": "Make a Raster or Raster Dataset into a Function Raster Dataset.",
"help": ""
},
{
"name": "Shaded_Relief_Blue_to_Red",
"description": "A raster function template.",
"help": ""
},
{
"name": "Color_Shaded_Relief",
"description": "A raster function template.",
"help": ""
},
{
"name": "Elevation_Blue_to_Red",
"description": "A raster function template.",
"help": ""
},
{
"name": "Slope_Colormap",
"description": "A raster function template.",
"help": ""
},
{
"name": "Slope",
"description": "A raster function template.",
"help": ""
},
{
"name": "Hillshade",
"description": "A raster function template.",
"help": ""
}
]}
Mensuration Capabilities: Basic
Has Histograms: true
Has Colormap: false
Has Multi Dimensions : false
Rendering Rule:
Min Scale: 0
Max Scale: 0
Copyright Text: OC Survey; USGS; DMI
Service Data Type: esriImageServiceDataTypeGeneric
Min Values: -21.087816238403
Max Values: 5688.3291015625
Mean Values: 851.2898425646
Standard Deviation Values: 848.75250029636
Object ID Field:
Fields:
None
Default Mosaic Method: Center
Allowed Mosaic Methods:
SortField:
SortValue: null
Mosaic Operator: First
Default Compression Quality: 75
Default Resampling Method: Bilinear
Max Record Count: null
Max Image Height: 4100
Max Image Width: 15000
Max Download Image Count: null
Max Mosaic Image Count: null
Allow Raster Function: true
Allow Copy: true
Allow Analysis: true
Allow Compute TiePoints: false
Supports Statistics: false
Supports Advanced Queries: false
Use StandardizedQueries: true
Raster Type Infos:
Name: Raster Dataset
Description: Supports all ArcGIS Raster Datasets
Help:
Has Raster Attribute Table: false
Edit Fields Info: null
Ownership Based AccessControl For Rasters: null
Child Resources:
Info
Histograms
Statistics
Key Properties
Legend
Raster Function Infos
Supported Operations:
Export Image
Identify
Measure
Compute Histograms
Compute Statistics Histograms
Get Samples
Compute Class Statistics
Query Boundary
Compute Pixel Location
Compute Angles
Validate
Project