View In:
ArcGIS JavaScript
ArcGIS Online Map Viewer
ArcGIS Earth
Service Description: TEST/Newport_Landscape_20170510_HARN_Test
Name: TEST/Newport_Landscape_20170510_HARN_Test
Description:
Single Fused Map Cache: false
Extent:
XMin: 6079054.376866738
YMin: 2161782.74527908
XMax: 6080562.280609138
YMax: 2163081.97963308
Spatial Reference: 0
(0)
LatestVCSWkid(0)
Initial Extent:
XMin: 6079054.376866738
YMin: 2161782.74527908
XMax: 6080562.280609138
YMax: 2163081.97963308
Spatial Reference: 0
(0)
LatestVCSWkid(0)
Full Extent:
XMin: 6079054.376866738
YMin: 2161782.74527908
XMax: 6080562.280609138
YMax: 2163081.97963308
Spatial Reference: 0
(0)
LatestVCSWkid(0)
Pixel Size X: 0.059096399999999924
Pixel Size Y: 0.05909640000000332
Band Count: 4
Pixel Type: U8
RasterFunction Infos: {"rasterFunctionInfos": [{
"name": "None",
"description": "",
"help": ""
}]}
Mensuration Capabilities: Basic
Inspection Capabilities:
Has Histograms: true
Has Colormap: false
Has Multi Dimensions : false
Rendering Rule:
Min Scale: 0
Max Scale: 0
Resampling: false
Copyright Text: OC Survey
Service Data Type: esriImageServiceDataTypeGeneric
Min Values: 0, 0, 0, 0
Max Values: 255, 255, 255, 255
Mean Values: 77.919117657147, 78.82676823866, 72.037931950116, 163.41354424665
Standard Deviation Values: 67.369589749876, 65.866923813311, 64.113827330407, 122.3375141415
Object ID Field:
Fields:
None
Default Mosaic Method: Center
Allowed Mosaic Methods:
SortField:
SortValue: null
Mosaic Operator: First
Default Compression Quality: 75
Default Resampling Method: Bilinear
Max Record Count: null
Max Image Height: 4100
Max Image Width: 15000
Max Download Image Count: null
Max Mosaic Image Count: null
Allow Raster Function: true
Allow Copy: true
Allow Analysis: true
Allow Compute TiePoints: false
Supports Statistics: false
Supports Advanced Queries: false
Use StandardizedQueries: true
Raster Type Infos:
Name: Raster Dataset
Description: Supports all ArcGIS Raster Datasets
Help:
Has Raster Attribute Table: false
Edit Fields Info: null
Ownership Based AccessControl For Rasters: null
Child Resources:
Info
Histograms
Statistics
Key Properties
Legend
Raster Function Infos
Supported Operations:
Export Image
Identify
Measure
Compute Histograms
Compute Statistics Histograms
Get Samples
Compute Class Statistics
Query Boundary
Compute Pixel Location
Compute Angles
Validate
Project