View In:
ArcGIS JavaScript
ArcGIS Online Map Viewer
ArcGIS Earth
Service Description: TEST/20210712_Aliso_Fire_LOKI_WMS_Test
Name: TEST/20210712_Aliso_Fire_LOKI_WMS_Test
Description:
Single Fused Map Cache: false
Extent:
XMin: 6104708.861424262
YMin: 2145075.637437695
XMax: 6109168.620827261
YMax: 2150114.6585616954
Spatial Reference: 0
(0)
LatestVCSWkid(0)
Initial Extent:
XMin: 6104708.861424262
YMin: 2145075.637437695
XMax: 6109168.620827261
YMax: 2150114.6585616954
Spatial Reference: 0
(0)
LatestVCSWkid(0)
Full Extent:
XMin: 6104708.861424262
YMin: 2145075.637437695
XMax: 6109168.620827261
YMax: 2150114.6585616954
Spatial Reference: 0
(0)
LatestVCSWkid(0)
Pixel Size X: 0.16843899999998696
Pixel Size Y: 0.16843900000000653
Band Count: 4
Pixel Type: U8
RasterFunction Infos: {"rasterFunctionInfos": [{
"name": "None",
"description": "",
"help": ""
}]}
Mensuration Capabilities: Basic
Inspection Capabilities:
Has Histograms: true
Has Colormap: false
Has Multi Dimensions : false
Rendering Rule:
Min Scale: 0
Max Scale: 0
Resampling: false
Copyright Text: OC Survey
Service Data Type: esriImageServiceDataTypeGeneric
Min Values: 0, 0, 0, 0
Max Values: 255, 255, 255, 255
Mean Values: 75.49619567033, 70.891490711284, 54.082599654028, 173.1419143106
Standard Deviation Values: 59.084060485833, 54.599240126115, 44.443396998093, 119.0506853233
Object ID Field:
Fields:
None
Default Mosaic Method: Center
Allowed Mosaic Methods:
SortField:
SortValue: null
Mosaic Operator: First
Default Compression Quality: 75
Default Resampling Method: Bilinear
Max Record Count: null
Max Image Height: 4100
Max Image Width: 15000
Max Download Image Count: null
Max Mosaic Image Count: null
Allow Raster Function: true
Allow Copy: true
Allow Analysis: true
Allow Compute TiePoints: false
Supports Statistics: false
Supports Advanced Queries: false
Use StandardizedQueries: true
Raster Type Infos:
Name: Raster Dataset
Description: Supports all ArcGIS Raster Datasets
Help:
Has Raster Attribute Table: false
Edit Fields Info: null
Ownership Based AccessControl For Rasters: null
Child Resources:
Info
Histograms
Statistics
Key Properties
Legend
Raster Function Infos
Supported Operations:
Export Image
Identify
Measure
Compute Histograms
Compute Statistics Histograms
Get Samples
Compute Class Statistics
Query Boundary
Compute Pixel Location
Compute Angles
Validate
Project