View In:
ArcGIS JavaScript
ArcGIS Online Map Viewer
ArcGIS Earth
Service Description: Survey/g2012bu5_Ft_WGS1984
Name: Survey/g2012bu5_Ft_WGS1984
Description:
Single Fused Map Cache: false
Extent:
XMin: -118.12499999992531
YMin: 33.37500000000188
XMax: -117.4083333332585
YMax: 33.95833333333533
Spatial Reference: 4326
(4326)
LatestVCSWkid(0)
Initial Extent:
XMin: -118.12499999992531
YMin: 33.37500000000188
XMax: -117.4083333332585
YMax: 33.95833333333533
Spatial Reference: 4326
(4326)
LatestVCSWkid(0)
Full Extent:
XMin: -118.12499999992531
YMin: 33.37500000000188
XMax: -117.4083333332585
YMax: 33.95833333333533
Spatial Reference: 4326
(4326)
LatestVCSWkid(0)
Pixel Size X: 0.016666666666670014
Pixel Size Y: 0.016666666666669983
Band Count: 1
Pixel Type: F32
RasterFunction Infos: {"rasterFunctionInfos": [{
"name": "None",
"description": "",
"help": ""
}]}
Mensuration Capabilities: Basic
Inspection Capabilities:
Has Histograms: true
Has Colormap: false
Has Multi Dimensions : false
Rendering Rule:
Min Scale: 0
Max Scale: 0
Resampling: false
Copyright Text:
Service Data Type: esriImageServiceDataTypeGeneric
Min Values: -118.77067565918
Max Values: -108.10892486572
Mean Values: -113.62827787684
Standard Deviation Values: 2.8808058760761
Object ID Field:
Fields:
None
Default Mosaic Method: Center
Allowed Mosaic Methods:
SortField:
SortValue: null
Mosaic Operator: First
Default Compression Quality: 75
Default Resampling Method: Bilinear
Max Record Count: null
Max Image Height: 4100
Max Image Width: 15000
Max Download Image Count: null
Max Mosaic Image Count: null
Allow Raster Function: true
Allow Copy: true
Allow Analysis: true
Allow Compute TiePoints: false
Supports Statistics: false
Supports Advanced Queries: false
Use StandardizedQueries: true
Raster Type Infos:
Name: Raster Dataset
Description: Supports all ArcGIS Raster Datasets
Help:
Has Raster Attribute Table: false
Edit Fields Info: null
Ownership Based AccessControl For Rasters: null
Child Resources:
Info
Histograms
Statistics
Key Properties
Legend
Raster Function Infos
Supported Operations:
Export Image
Identify
Measure
Compute Histograms
Compute Statistics Histograms
Get Samples
Compute Class Statistics
Query Boundary
Compute Pixel Location
Compute Angles
Validate
Project