View In:
ArcGIS JavaScript
ArcGIS Online Map Viewer
ArcGIS Earth
Service Description: Survey/Thisa_Way_20190412
Name: Survey/Thisa_Way_20190412
Description:
Single Fused Map Cache: false
Extent:
XMin: 6138727.73529
YMin: 2218094.1735300007
XMax: 6139666.82115
YMax: 2218685.1368100005
Spatial Reference: 102646
(2230)
LatestVCSWkid(0)
Initial Extent:
XMin: 6138727.73529
YMin: 2218094.1735300007
XMax: 6139666.82115
YMax: 2218685.1368100005
Spatial Reference: 102646
(2230)
LatestVCSWkid(0)
Full Extent:
XMin: 6138727.73529
YMin: 2218094.1735300007
XMax: 6139666.82115
YMax: 2218685.1368100005
Spatial Reference: 102646
(2230)
LatestVCSWkid(0)
Pixel Size X: 0.05090999999999957
Pixel Size Y: 0.05090999999998213
Band Count: 3
Pixel Type: U8
RasterFunction Infos: {"rasterFunctionInfos": [
{
"name": "None",
"description": "Make a Raster or Raster Dataset into a Function Raster Dataset.",
"help": ""
},
{
"name": "RGB Composite_Aliso",
"description": "A raster function template.",
"help": ""
}
]}
Mensuration Capabilities: Basic
Inspection Capabilities:
Has Histograms: true
Has Colormap: false
Has Multi Dimensions : false
Rendering Rule:
Min Scale: 0
Max Scale: 0
Resampling: false
Copyright Text:
Service Data Type: esriImageServiceDataTypeRGB
Min Values: 1, 1, 1
Max Values: 255, 255, 255
Mean Values: 117.58120299146, 124.7527873074, 115.88784468703
Standard Deviation Values: 64.765120373031, 61.171688282116, 63.793123208381
Object ID Field:
Fields:
None
Default Mosaic Method: Center
Allowed Mosaic Methods:
SortField:
SortValue: null
Mosaic Operator: First
Default Compression Quality: 75
Default Resampling Method: Bilinear
Max Record Count: null
Max Image Height: 4100
Max Image Width: 15000
Max Download Image Count: null
Max Mosaic Image Count: null
Allow Raster Function: true
Allow Copy: true
Allow Analysis: true
Allow Compute TiePoints: false
Supports Statistics: false
Supports Advanced Queries: false
Use StandardizedQueries: true
Raster Type Infos:
Name: Raster Dataset
Description: Supports all ArcGIS Raster Datasets
Help:
Has Raster Attribute Table: false
Edit Fields Info: null
Ownership Based AccessControl For Rasters: null
Child Resources:
Info
Histograms
Statistics
Key Properties
Legend
Raster Function Infos
Supported Operations:
Export Image
Identify
Measure
Compute Histograms
Compute Statistics Histograms
Get Samples
Compute Class Statistics
Query Boundary
Compute Pixel Location
Compute Angles
Validate
Project