View In:
ArcGIS JavaScript
ArcGIS Online Map Viewer
ArcGIS Earth
Service Description: Superblock Aerial DMI
Name: Survey/Superblock_Aerial_DMI
Description: Superblock Aerial DMI
Single Fused Map Cache: false
Extent:
XMin: 6068279.2221
YMin: 2219821.4783
XMax: 6069620.9721
YMax: 2221131.7283
Spatial Reference: 102646
(2230)
LatestVCSWkid(0)
Initial Extent:
XMin: 6068279.2221
YMin: 2219821.4783
XMax: 6069620.9721
YMax: 2221131.7283
Spatial Reference: 102646
(2230)
LatestVCSWkid(0)
Full Extent:
XMin: 6068279.2221
YMin: 2219821.4783
XMax: 6069620.9721
YMax: 2221131.7283
Spatial Reference: 102646
(2230)
LatestVCSWkid(0)
Pixel Size X: 0.25
Pixel Size Y: 0.25
Band Count: 3
Pixel Type: U16
RasterFunction Infos: {"rasterFunctionInfos": [{
"name": "None",
"description": "",
"help": ""
}]}
Mensuration Capabilities: Basic
Inspection Capabilities:
Has Histograms: true
Has Colormap: false
Has Multi Dimensions : false
Rendering Rule:
Min Scale: 0
Max Scale: 0
Resampling: false
Copyright Text: DMI
Service Data Type: esriImageServiceDataTypeGeneric
Min Values: 0, 0, 0
Max Values: 255, 255, 255
Mean Values: 127.26721876968, 126.08931289382, 114.09921489802
Standard Deviation Values: 66.112861080629, 65.176785443254, 62.334939604349
Object ID Field:
Fields:
None
Default Mosaic Method: Center
Allowed Mosaic Methods:
SortField:
SortValue: null
Mosaic Operator: First
Default Compression Quality: 75
Default Resampling Method: Bilinear
Max Record Count: null
Max Image Height: 4100
Max Image Width: 15000
Max Download Image Count: null
Max Mosaic Image Count: null
Allow Raster Function: true
Allow Copy: true
Allow Analysis: true
Allow Compute TiePoints: false
Supports Statistics: false
Supports Advanced Queries: false
Use StandardizedQueries: true
Raster Type Infos:
Name: Raster Dataset
Description: Supports all ArcGIS Raster Datasets
Help:
Has Raster Attribute Table: false
Edit Fields Info: null
Ownership Based AccessControl For Rasters: null
Child Resources:
Info
Histograms
Statistics
Key Properties
Legend
Raster Function Infos
Supported Operations:
Export Image
Identify
Measure
Compute Histograms
Compute Statistics Histograms
Get Samples
Compute Class Statistics
Query Boundary
Compute Pixel Location
Compute Angles
Validate
Project