View In:
ArcGIS JavaScript
ArcGIS Online Map Viewer
ArcGIS Earth
Service Description: Stueve Survey (Prado Basin) Aerial Survey DEM
Units in Feet (NGVD29)
Name: Survey/Stueve_LOKI_DEM
Description: Stueve Survey (Prado Basin) Aerial Survey DEM
Units in Feet (NGVD29)
Single Fused Map Cache: false
Extent:
XMin: 6141845.282714128
YMin: 2286224.883607275
XMax: 6145867.684538128
YMax: 2290752.4946952746
Spatial Reference: 0
(0)
LatestVCSWkid(0)
Initial Extent:
XMin: 6141845.282714128
YMin: 2286224.883607275
XMax: 6145867.684538128
YMax: 2290752.4946952746
Spatial Reference: 0
(0)
LatestVCSWkid(0)
Full Extent:
XMin: 6141845.282714128
YMin: 2286224.883607275
XMax: 6145867.684538128
YMax: 2290752.4946952746
Spatial Reference: 0
(0)
LatestVCSWkid(0)
Pixel Size X: 0.45886400000003325
Pixel Size Y: 0.4588639999999769
Band Count: 1
Pixel Type: F32
RasterFunction Infos: {"rasterFunctionInfos": [
{
"name": "None",
"description": "Make a Raster or Raster Dataset into a Function Raster Dataset.",
"help": ""
},
{
"name": "Shaded_Relief_Blue_to_Red",
"description": "A raster function template.",
"help": ""
},
{
"name": "Color_Shaded_Relief",
"description": "A raster function template.",
"help": ""
},
{
"name": "Slope",
"description": "A raster function template.",
"help": ""
},
{
"name": "Hillshade",
"description": "A raster function template.",
"help": ""
}
]}
Mensuration Capabilities: Basic
Inspection Capabilities:
Has Histograms: false
Has Colormap: false
Has Multi Dimensions : false
Rendering Rule:
Min Scale: 0
Max Scale: 0
Resampling: false
Copyright Text: OC Survey
Service Data Type: esriImageServiceDataTypeGeneric
Min Values: N/A
Max Values: N/A
Mean Values: N/A
Standard Deviation Values: N/A
Object ID Field:
Fields:
None
Default Mosaic Method: Center
Allowed Mosaic Methods:
SortField:
SortValue: null
Mosaic Operator: First
Default Compression Quality: 75
Default Resampling Method: Bilinear
Max Record Count: null
Max Image Height: 4100
Max Image Width: 15000
Max Download Image Count: null
Max Mosaic Image Count: null
Allow Raster Function: true
Allow Copy: true
Allow Analysis: true
Allow Compute TiePoints: false
Supports Statistics: false
Supports Advanced Queries: false
Use StandardizedQueries: true
Raster Type Infos:
Name: Raster Dataset
Description: Supports all ArcGIS Raster Datasets
Help:
Has Raster Attribute Table: false
Edit Fields Info: null
Ownership Based AccessControl For Rasters: null
Child Resources:
Info
Statistics
Key Properties
Legend
Raster Function Infos
Supported Operations:
Export Image
Identify
Measure
Compute Histograms
Compute Statistics Histograms
Get Samples
Compute Class Statistics
Query Boundary
Compute Pixel Location
Compute Angles
Validate
Project