View In:
ArcGIS JavaScript
ArcGIS Online Map Viewer
ArcGIS Earth
Service Description: Silverado Fire 2020 Slope Map of Impacted Basins - Data derived from USGS 3DEP DEMs from 2015 and 2018
Name: Survey/Silverado_Fire_2020_Impacted_Basins_Slope_Map
Description: Silverado Fire 2020 Slope Map of Impacted Basins - Data derived from USGS 3DEP DEMs from 2015 and 2018
Single Fused Map Cache: false
Extent:
XMin: 6105997.218549109
YMin: 2196224.325094538
XMax: 6134625.828389108
YMax: 2221496.635614537
Spatial Reference: 0
(0)
LatestVCSWkid(0)
Initial Extent:
XMin: 6105997.218549109
YMin: 2196224.325094538
XMax: 6134625.828389108
YMax: 2221496.635614537
Spatial Reference: 0
(0)
LatestVCSWkid(0)
Full Extent:
XMin: 6105997.218549109
YMin: 2196224.325094538
XMax: 6134625.828389108
YMax: 2221496.635614537
Spatial Reference: 0
(0)
LatestVCSWkid(0)
Pixel Size X: 3.2808399999998987
Pixel Size Y: 3.280839999999917
Band Count: 1
Pixel Type: F32
RasterFunction Infos: {"rasterFunctionInfos": [
{
"name": "Impacted_Slope_Ranges",
"description": "A raster function template.",
"help": ""
},
{
"name": "None",
"description": "",
"help": ""
}
]}
Mensuration Capabilities: Basic
Inspection Capabilities:
Has Histograms: true
Has Colormap: false
Has Multi Dimensions : false
Rendering Rule:
Min Scale: 0
Max Scale: 0
Copyright Text: USGS
Service Data Type: esriImageServiceDataTypeGeneric
Min Values: 0
Max Values: 836.26202392578
Mean Values: 11.961352374369
Standard Deviation Values: 9.3486855362709
Object ID Field:
Fields:
None
Default Mosaic Method: Center
Allowed Mosaic Methods:
SortField:
SortValue: null
Mosaic Operator: First
Default Compression Quality: 75
Default Resampling Method: Bilinear
Max Record Count: null
Max Image Height: 4100
Max Image Width: 15000
Max Download Image Count: null
Max Mosaic Image Count: null
Allow Raster Function: true
Allow Copy: true
Allow Analysis: true
Allow Compute TiePoints: false
Supports Statistics: false
Supports Advanced Queries: false
Use StandardizedQueries: true
Raster Type Infos:
Name: Raster Dataset
Description: Supports all ArcGIS Raster Datasets
Help:
Has Raster Attribute Table: false
Edit Fields Info: null
Ownership Based AccessControl For Rasters: null
Child Resources:
Info
Histograms
Statistics
Key Properties
Legend
Raster Function Infos
Supported Operations:
Export Image
Identify
Measure
Compute Histograms
Compute Statistics Histograms
Get Samples
Compute Class Statistics
Query Boundary
Compute Pixel Location
Compute Angles
Validate
Project