View In:
ArcGIS JavaScript
ArcGIS Online Map Viewer
ArcGIS Earth
Service Description: San Diego Creek Aerial Imagery
Name: Survey/San_Diego_Creek_Eagle_2017
Description: San Diego Creek Aerial Imagery
Single Fused Map Cache: false
Extent:
XMin: 6076965.0
YMin: 2182544.75
XMax: 6105024.5
YMax: 2199563.75
Spatial Reference: 0
(0)
LatestVCSWkid(0)
Initial Extent:
XMin: 6076965.0
YMin: 2182544.75
XMax: 6105024.5
YMax: 2199563.75
Spatial Reference: 0
(0)
LatestVCSWkid(0)
Full Extent:
XMin: 6076965.0
YMin: 2182544.75
XMax: 6105024.5
YMax: 2199563.75
Spatial Reference: 0
(0)
LatestVCSWkid(0)
Pixel Size X: 0.25
Pixel Size Y: 0.25
Band Count: 3
Pixel Type: U8
RasterFunction Infos: {"rasterFunctionInfos": [{
"name": "None",
"description": "",
"help": ""
}]}
Mensuration Capabilities: Basic
Inspection Capabilities:
Has Histograms: true
Has Colormap: false
Has Multi Dimensions : false
Rendering Rule:
Min Scale: 0
Max Scale: 0
Resampling: false
Copyright Text: Eagle Aerial Imaging
Service Data Type: esriImageServiceDataTypeRGB
Min Values: 0, 0, 0
Max Values: 255, 255, 255
Mean Values: 112.32092924849, 104.67857540441, 80.779248839651
Standard Deviation Values: 56.466872146678, 51.784917532395, 52.027079257993
Object ID Field:
Fields:
None
Default Mosaic Method: Center
Allowed Mosaic Methods:
SortField:
SortValue: null
Mosaic Operator: First
Default Compression Quality: 75
Default Resampling Method: Bilinear
Max Record Count: null
Max Image Height: 4100
Max Image Width: 15000
Max Download Image Count: null
Max Mosaic Image Count: null
Allow Raster Function: true
Allow Copy: true
Allow Analysis: true
Allow Compute TiePoints: false
Supports Statistics: false
Supports Advanced Queries: false
Use StandardizedQueries: true
Raster Type Infos:
Name: Raster Dataset
Description: Supports all ArcGIS Raster Datasets
Help:
Has Raster Attribute Table: false
Edit Fields Info: null
Ownership Based AccessControl For Rasters: null
Child Resources:
Info
Histograms
Statistics
Key Properties
Legend
Raster Function Infos
Supported Operations:
Export Image
Identify
Measure
Compute Histograms
Compute Statistics Histograms
Get Samples
Compute Class Statistics
Query Boundary
Compute Pixel Location
Compute Angles
Validate
Project