View In:
ArcGIS JavaScript
ArcGIS Online Map Viewer
ArcGIS Earth
Service Description: San Diego Channel (Campus Dr to 405) 2017 Eagle Aerial
Name: Survey/SDC_Campus_to_405_Eagle2017
Description: San Diego Channel (Campus Dr to 405) 2017 Eagle Aerial
Single Fused Map Cache: false
Extent:
XMin: 6075195.3695672
YMin: 2184924.836115383
XMax: 6081493.8695672
YMax: 2193272.086115383
Spatial Reference: 0
(0)
LatestVCSWkid(0)
Initial Extent:
XMin: 6075195.3695672
YMin: 2184924.836115383
XMax: 6081493.8695672
YMax: 2193272.086115383
Spatial Reference: 0
(0)
LatestVCSWkid(0)
Full Extent:
XMin: 6075195.3695672
YMin: 2184924.836115383
XMax: 6081493.8695672
YMax: 2193272.086115383
Spatial Reference: 0
(0)
LatestVCSWkid(0)
Pixel Size X: 0.25
Pixel Size Y: 0.25
Band Count: 3
Pixel Type: U8
RasterFunction Infos: {"rasterFunctionInfos": [
{
"name": "None",
"description": "Make a Raster or Raster Dataset into a Function Raster Dataset.",
"help": ""
},
{
"name": "RGB Composite_Aliso",
"description": "A raster function template.",
"help": ""
}
]}
Mensuration Capabilities: Basic
Inspection Capabilities:
Has Histograms: true
Has Colormap: false
Has Multi Dimensions : false
Rendering Rule:
Min Scale: 0
Max Scale: 0
Copyright Text: Eagle Aerial
Service Data Type: esriImageServiceDataTypeRGB
Min Values: 0, 0, 0
Max Values: 255, 255, 255
Mean Values: 107.17487870628, 102.33397610011, 75.503273521158
Standard Deviation Values: 54.768505735296, 50.529617443014, 51.261339864595
Object ID Field:
Fields:
None
Default Mosaic Method: Center
Allowed Mosaic Methods:
SortField:
SortValue: null
Mosaic Operator: First
Default Compression Quality: 75
Default Resampling Method: Bilinear
Max Record Count: null
Max Image Height: 4100
Max Image Width: 15000
Max Download Image Count: null
Max Mosaic Image Count: null
Allow Raster Function: true
Allow Copy: true
Allow Analysis: true
Allow Compute TiePoints: false
Supports Statistics: false
Supports Advanced Queries: false
Use StandardizedQueries: true
Raster Type Infos:
Name: Raster Dataset
Description: Supports all ArcGIS Raster Datasets
Help:
Has Raster Attribute Table: false
Edit Fields Info: null
Ownership Based AccessControl For Rasters: null
Child Resources:
Info
Histograms
Statistics
Key Properties
Legend
Raster Function Infos
Supported Operations:
Export Image
Identify
Measure
Compute Histograms
Compute Statistics Histograms
Get Samples
Compute Class Statistics
Query Boundary
Compute Pixel Location
Compute Angles
Validate
Project