View In:
ArcGIS JavaScript
ArcGIS Online Map Viewer
ArcGIS Earth
Service Description: Santa Ana River Outlet: Orthophotos
Name: Survey/SAR_Outlet_Orthos
Description: Santa Ana River Outlet: Orthophotos
Single Fused Map Cache: false
Extent:
XMin: 6039984.25898624
YMin: 2176128.8355657896
XMax: 6043083.46534144
YMax: 2179703.58094179
Spatial Reference: 2875
(2875)
LatestVCSWkid(0)
Initial Extent:
XMin: 6039984.25898624
YMin: 2176128.8355657896
XMax: 6043083.46534144
YMax: 2179703.58094179
Spatial Reference: 2875
(2875)
LatestVCSWkid(0)
Full Extent:
XMin: 6039984.25898624
YMin: 2176128.8355657896
XMax: 6043083.46534144
YMax: 2179703.58094179
Spatial Reference: 2875
(2875)
LatestVCSWkid(0)
Pixel Size X: 0.027342400000001314
Pixel Size Y: 0.027342400000001384
Band Count: 3
Pixel Type: U8
RasterFunction Infos: {"rasterFunctionInfos": [
{
"name": "None",
"description": "A No-Op Function.",
"help": ""
},
{
"name": "RGB Composite_Aliso",
"description": "A raster function template.",
"help": ""
}
]}
Mensuration Capabilities: Basic
Inspection Capabilities:
Has Histograms: true
Has Colormap: false
Has Multi Dimensions : false
Rendering Rule:
Min Scale: 0
Max Scale: 0
Copyright Text: OC Survey
Service Data Type: esriImageServiceDataTypeRGB
Min Values: 0, 0, 0
Max Values: 255, 255, 255
Mean Values: 67.33884063018196, 66.4666436598787, 61.83986973873225
Standard Deviation Values: 62.194396070881176, 59.600075182464494, 57.11073261445996
Object ID Field: OBJECTID
Fields:
-
OBJECTID
(
type: esriFieldTypeOID, alias: OBJECTID
)
-
Name
(
type: esriFieldTypeString, alias: Name, length: 200
)
-
MinPS
(
type: esriFieldTypeDouble, alias: MinPS
)
-
MaxPS
(
type: esriFieldTypeDouble, alias: MaxPS
)
-
LowPS
(
type: esriFieldTypeDouble, alias: LowPS
)
-
HighPS
(
type: esriFieldTypeDouble, alias: HighPS
)
-
Category
(
type: esriFieldTypeInteger, alias: Category
, Coded Values:
[0: Unknown]
, [1: Primary]
, [2: Overview]
, ...5 more...
)
-
Tag
(
type: esriFieldTypeString, alias: Tag, length: 100
)
-
GroupName
(
type: esriFieldTypeString, alias: GroupName, length: 100
)
-
ProductName
(
type: esriFieldTypeString, alias: ProductName, length: 100
)
-
CenterX
(
type: esriFieldTypeDouble, alias: CenterX
)
-
CenterY
(
type: esriFieldTypeDouble, alias: CenterY
)
-
ZOrder
(
type: esriFieldTypeInteger, alias: ZOrder
)
-
Shape
(
type: esriFieldTypeGeometry, alias: Shape
)
-
Date
(
type: esriFieldTypeDate, alias: Date, length: 8
)
-
Shape.STArea()
(
type: esriFieldTypeDouble, alias: Shape.STArea()
)
-
Shape.STLength()
(
type: esriFieldTypeDouble, alias: Shape.STLength()
)
Default Mosaic Method: Northwest
Allowed Mosaic Methods: NorthWest,Center,LockRaster,ByAttribute,Nadir,Viewpoint,Seamline,None
SortField:
SortValue: null
Mosaic Operator: First
Default Compression Quality: 75
Default Resampling Method: Bilinear
Max Record Count: 1000
Max Image Height: 4100
Max Image Width: 15000
Max Download Image Count: 20
Max Mosaic Image Count: 20
Allow Raster Function: true
Allow Copy: true
Allow Analysis: true
Allow Compute TiePoints: false
Supports Statistics: true
Supports Advanced Queries: true
Use StandardizedQueries: true
Raster Type Infos:
Name: Raster Dataset
Description: Supports all ArcGIS Raster Datasets
Help:
Has Raster Attribute Table: false
Edit Fields Info: null
Ownership Based AccessControl For Rasters: null
Child Resources:
Info
Histograms
Statistics
Key Properties
Legend
Raster Function Infos
Supported Operations:
Export Image
Query
Identify
Measure
Compute Histograms
Compute Statistics Histograms
Get Samples
Compute Class Statistics
Query GPS Info
Find Images
Image to Map
Map to Image
Measure from Image
Image to Map Multiray
Query Boundary
Compute Pixel Location
Compute Angles
Validate
Project