View In:
ArcGIS JavaScript
ArcGIS Online Map Viewer
ArcGIS Earth
Service Description: Santa Ana River Outlet: 2018 Eagle Aerial
Name: Survey/SAR_Outlet_Eagle_2018
Description: Santa Ana River Outlet: 2018 Eagle Aerial
Single Fused Map Cache: false
Extent:
XMin: 6040758.009398985
YMin: 2176324.2562808837
XMax: 6043090.759398985
YMax: 2178439.5062808837
Spatial Reference: 102646
(2230)
LatestVCSWkid(0)
Initial Extent:
XMin: 6040758.009398985
YMin: 2176324.2562808837
XMax: 6043090.759398985
YMax: 2178439.5062808837
Spatial Reference: 102646
(2230)
LatestVCSWkid(0)
Full Extent:
XMin: 6040758.009398985
YMin: 2176324.2562808837
XMax: 6043090.759398985
YMax: 2178439.5062808837
Spatial Reference: 102646
(2230)
LatestVCSWkid(0)
Pixel Size X: 0.25
Pixel Size Y: 0.25
Band Count: 3
Pixel Type: U8
RasterFunction Infos: {"rasterFunctionInfos": [
{
"name": "RGB Composite_Aliso",
"description": "A raster function template.",
"help": ""
},
{
"name": "None",
"description": "",
"help": ""
}
]}
Mensuration Capabilities: Basic
Inspection Capabilities:
Has Histograms: true
Has Colormap: false
Has Multi Dimensions : false
Rendering Rule:
Min Scale: 0
Max Scale: 0
Copyright Text: Eagle Aerial Imagery
Service Data Type: esriImageServiceDataTypeRGB
Min Values: 9, 18, 3
Max Values: 255, 255, 255
Mean Values: 151.91372611418, 144.18978674629, 131.70382082162
Standard Deviation Values: 47.107605129602, 43.928735812456, 43.148880839023
Object ID Field:
Fields:
None
Default Mosaic Method: Center
Allowed Mosaic Methods:
SortField:
SortValue: null
Mosaic Operator: First
Default Compression Quality: 75
Default Resampling Method: Bilinear
Max Record Count: null
Max Image Height: 4100
Max Image Width: 15000
Max Download Image Count: null
Max Mosaic Image Count: null
Allow Raster Function: true
Allow Copy: true
Allow Analysis: true
Allow Compute TiePoints: false
Supports Statistics: false
Supports Advanced Queries: false
Use StandardizedQueries: true
Raster Type Infos:
Name: Raster Dataset
Description: Supports all ArcGIS Raster Datasets
Help:
Has Raster Attribute Table: false
Edit Fields Info: null
Ownership Based AccessControl For Rasters: null
Child Resources:
Info
Histograms
Statistics
Key Properties
Legend
Raster Function Infos
Supported Operations:
Export Image
Identify
Measure
Compute Histograms
Compute Statistics Histograms
Get Samples
Compute Class Statistics
Query Boundary
Compute Pixel Location
Compute Angles
Validate
Project