View In:
ArcGIS JavaScript
ArcGIS Online Map Viewer
ArcGIS Earth
Service Description: Prado Basin 2015 Survey: DEM
Name: Survey/Prado_Basin_2015_1M_DEM
Description: Prado Basin 2015 Survey: DEM
Single Fused Map Cache: false
Extent:
XMin: 6124631.165044315
YMin: 2267258.337074248
XMax: 6165710.562684315
YMax: 2301559.5192742483
Spatial Reference: 102646
(2230)
LatestVCSWkid(0)
Initial Extent:
XMin: 6124631.165044315
YMin: 2267258.337074248
XMax: 6165710.562684315
YMax: 2301559.5192742483
Spatial Reference: 102646
(2230)
LatestVCSWkid(0)
Full Extent:
XMin: 6124631.165044315
YMin: 2267258.337074248
XMax: 6165710.562684315
YMax: 2301559.5192742483
Spatial Reference: 102646
(2230)
LatestVCSWkid(0)
Pixel Size X: 3.280840000000008
Pixel Size Y: 3.280840000000015
Band Count: 1
Pixel Type: F32
RasterFunction Infos: {"rasterFunctionInfos": [
{
"name": "None",
"description": "Make a Raster or Raster Dataset into a Function Raster Dataset.",
"help": ""
},
{
"name": "Shaded_Relief_Blue_to_Red",
"description": "A raster function template.",
"help": ""
},
{
"name": "Slope",
"description": "A raster function template.",
"help": ""
},
{
"name": "Hillshade",
"description": "A raster function template.",
"help": ""
}
]}
Mensuration Capabilities: Basic
Inspection Capabilities:
Has Histograms: true
Has Colormap: false
Has Multi Dimensions : false
Rendering Rule:
Min Scale: 0
Max Scale: 0
Copyright Text: OC Survey
Service Data Type: esriImageServiceDataTypeGeneric
Min Values: 432.5276184082
Max Values: 954.33227539063
Mean Values: 557.50898279068
Standard Deviation Values: 43.274102816083
Object ID Field:
Fields:
None
Default Mosaic Method: Center
Allowed Mosaic Methods:
SortField:
SortValue: null
Mosaic Operator: First
Default Compression Quality: 75
Default Resampling Method: Bilinear
Max Record Count: null
Max Image Height: 4100
Max Image Width: 15000
Max Download Image Count: null
Max Mosaic Image Count: null
Allow Raster Function: true
Allow Copy: true
Allow Analysis: true
Allow Compute TiePoints: false
Supports Statistics: false
Supports Advanced Queries: false
Use StandardizedQueries: true
Raster Type Infos:
Name: Raster Dataset
Description: Supports all ArcGIS Raster Datasets
Help:
Has Raster Attribute Table: false
Edit Fields Info: null
Ownership Based AccessControl For Rasters: null
Child Resources:
Info
Histograms
Statistics
Key Properties
Legend
Raster Function Infos
Supported Operations:
Export Image
Identify
Measure
Compute Histograms
Compute Statistics Histograms
Get Samples
Compute Class Statistics
Query Boundary
Compute Pixel Location
Compute Angles
Validate
Project