View In:
ArcGIS JavaScript
ArcGIS Online Map Viewer
ArcGIS Earth
Service Description: Survey/Olive_Heights_Field_DEM
Name: Survey/Olive_Heights_Field_DEM
Description:
Single Fused Map Cache: false
Extent:
XMin: 6077010.6211807225
YMin: 2251871.587273092
XMax: 6077191.824497991
YMax: 2252242.905546184
Spatial Reference: 3500
(3500)
VCSWkid(105703)
LatestVCSWkid(6360)
Initial Extent:
XMin: 6077010.6211807225
YMin: 2251871.587273092
XMax: 6077191.824497991
YMax: 2252242.905546184
Spatial Reference: 3500
(3500)
VCSWkid(105703)
LatestVCSWkid(6360)
Full Extent:
XMin: 6077010.6211807225
YMin: 2251871.587273092
XMax: 6077191.824497991
YMax: 2252242.905546184
Spatial Reference: 3500
(3500)
VCSWkid(105703)
LatestVCSWkid(6360)
Pixel Size X: 1.485273092366816
Pixel Size Y: 1.4852730923686177
Band Count: 1
Pixel Type: F32
RasterFunction Infos: {"rasterFunctionInfos": [{
"name": "None",
"description": "",
"help": ""
}]}
Mensuration Capabilities: Basic
Inspection Capabilities:
Has Histograms: true
Has Colormap: false
Has Multi Dimensions : false
Rendering Rule:
Min Scale: 0
Max Scale: 0
Resampling: false
Copyright Text:
Service Data Type: esriImageServiceDataTypeGeneric
Min Values: 0
Max Values: 236.19236755371
Mean Values: 88.415605727899
Standard Deviation Values: 111.61671560246
Object ID Field:
Fields:
None
Default Mosaic Method: Center
Allowed Mosaic Methods:
SortField:
SortValue: null
Mosaic Operator: First
Default Compression Quality: 75
Default Resampling Method: Bilinear
Max Record Count: null
Max Image Height: 4100
Max Image Width: 15000
Max Download Image Count: null
Max Mosaic Image Count: null
Allow Raster Function: true
Allow Copy: true
Allow Analysis: true
Allow Compute TiePoints: false
Supports Statistics: false
Supports Advanced Queries: false
Use StandardizedQueries: true
Raster Type Infos:
Name: Raster Dataset
Description: Supports all ArcGIS Raster Datasets
Help:
Has Raster Attribute Table: false
Edit Fields Info: null
Ownership Based AccessControl For Rasters: null
Child Resources:
Info
Histograms
Statistics
Key Properties
Legend
Raster Function Infos
Supported Operations:
Export Image
Identify
Measure
Compute Histograms
Compute Statistics Histograms
Get Samples
Compute Class Statistics
Query Boundary
Compute Pixel Location
Compute Angles
Validate
Project