View In:
ArcGIS JavaScript
ArcGIS Online Map Viewer
ArcGIS Earth
Service Description: Survey/OC_DEM_2021_Dynamic
Name: Survey/OC_DEM_2021_Dynamic
Description:
Single Fused Map Cache: false
Extent:
XMin: 5971623.854669109
YMin: 2072195.44973453
XMax: 6236082.524549109
YMax: 2336644.27709453
Spatial Reference: 102646
(2230)
LatestVCSWkid(0)
Initial Extent:
XMin: 5971623.854669109
YMin: 2072195.44973453
XMax: 6236082.524549109
YMax: 2336644.27709453
Spatial Reference: 102646
(2230)
LatestVCSWkid(0)
Full Extent:
XMin: 5971623.854669109
YMin: 2072195.44973453
XMax: 6236082.524549109
YMax: 2336644.27709453
Spatial Reference: 102646
(2230)
LatestVCSWkid(0)
Pixel Size X: 3.280839999999999
Pixel Size Y: 3.28084
Band Count: 1
Pixel Type: F32
RasterFunction Infos: {"rasterFunctionInfos": [
{
"name": "None",
"description": "Make a Raster or Raster Dataset into a Function Raster Dataset.",
"help": ""
},
{
"name": "Shaded_Relief_Blue_to_Red",
"description": "A raster function template.",
"help": ""
},
{
"name": "Slope",
"description": "A raster function template.",
"help": ""
},
{
"name": "Hillshade",
"description": "A raster function template.",
"help": ""
}
]}
Mensuration Capabilities: Basic
Inspection Capabilities:
Has Histograms: true
Has Colormap: false
Has Multi Dimensions : false
Rendering Rule:
Min Scale: 0
Max Scale: 0
Copyright Text: USGS, OC Survey
Service Data Type: esriImageServiceDataTypeGeneric
Min Values: -21.087816238403
Max Values: 5688.2202148438
Mean Values: 851.29024703229
Standard Deviation Values: 848.75233376836
Object ID Field:
Fields:
None
Default Mosaic Method: Center
Allowed Mosaic Methods:
SortField:
SortValue: null
Mosaic Operator: First
Default Compression Quality: 75
Default Resampling Method: Bilinear
Max Record Count: null
Max Image Height: 4100
Max Image Width: 15000
Max Download Image Count: null
Max Mosaic Image Count: null
Allow Raster Function: true
Allow Copy: true
Allow Analysis: true
Allow Compute TiePoints: false
Supports Statistics: false
Supports Advanced Queries: false
Use StandardizedQueries: true
Raster Type Infos:
Name: Raster Dataset
Description: Supports all ArcGIS Raster Datasets
Help:
Has Raster Attribute Table: false
Edit Fields Info: null
Ownership Based AccessControl For Rasters: null
Child Resources:
Info
Histograms
Statistics
Key Properties
Legend
Raster Function Infos
Supported Operations:
Export Image
Identify
Measure
Compute Histograms
Compute Statistics Histograms
Get Samples
Compute Class Statistics
Query Boundary
Compute Pixel Location
Compute Angles
Validate
Project