View In:
ArcGIS JavaScript
ArcGIS Online Map Viewer
ArcGIS Earth
Service Description: Mile Square Regional Park Phase 1 Concept Plan
Name: Survey/MISQ_Phase_1_Plan
Description: Mile Square Regional Park Phase 1 Concept Plan
Single Fused Map Cache: false
Extent:
XMin: 6043085.72243739
YMin: 2209392.049372783
XMax: 6047873.794894859
YMax: 2212764.4781013355
Spatial Reference: 102646
(2230)
LatestVCSWkid(0)
Initial Extent:
XMin: 6043085.72243739
YMin: 2209392.049372783
XMax: 6047873.794894859
YMax: 2212764.4781013355
Spatial Reference: 102646
(2230)
LatestVCSWkid(0)
Full Extent:
XMin: 6043085.72243739
YMin: 2209392.049372783
XMax: 6047873.794894859
YMax: 2212764.4781013355
Spatial Reference: 102646
(2230)
LatestVCSWkid(0)
Pixel Size X: 1.4509310477178996
Pixel Size Y: 1.4473943040998005
Band Count: 3
Pixel Type: U8
RasterFunction Infos: {"rasterFunctionInfos": [
{
"name": "None",
"description": "Make a Raster or Raster Dataset into a Function Raster Dataset.",
"help": ""
},
{
"name": "1-2-3-RGB Composite",
"description": "A raster function template.",
"help": ""
},
{
"name": "RGB Aliso Alpha Composite",
"description": "A raster function template.",
"help": ""
}
]}
Mensuration Capabilities: Basic
Inspection Capabilities:
Has Histograms: false
Has Colormap: false
Has Multi Dimensions : false
Rendering Rule:
Min Scale: 0
Max Scale: 0
Copyright Text: OC Parks
Service Data Type: esriImageServiceDataTypeRGB
Min Values: N/A
Max Values: N/A
Mean Values: N/A
Standard Deviation Values: N/A
Object ID Field:
Fields:
None
Default Mosaic Method: Center
Allowed Mosaic Methods:
SortField:
SortValue: null
Mosaic Operator: First
Default Compression Quality: 75
Default Resampling Method: Bilinear
Max Record Count: null
Max Image Height: 4100
Max Image Width: 15000
Max Download Image Count: null
Max Mosaic Image Count: null
Allow Raster Function: true
Allow Copy: true
Allow Analysis: true
Allow Compute TiePoints: false
Supports Statistics: false
Supports Advanced Queries: false
Use StandardizedQueries: true
Raster Type Infos:
Name: Raster Dataset
Description: Supports all ArcGIS Raster Datasets
Help:
Has Raster Attribute Table: false
Edit Fields Info: null
Ownership Based AccessControl For Rasters: null
Child Resources:
Info
Statistics
Key Properties
Legend
Raster Function Infos
Supported Operations:
Export Image
Identify
Measure
Compute Histograms
Compute Statistics Histograms
Get Samples
Compute Class Statistics
Query Boundary
Compute Pixel Location
Compute Angles
Validate
Project