View In:
ArcGIS JavaScript
ArcGIS Online Map Viewer
ArcGIS Earth
Service Description: MISQ Eagle 2016 Aerial (HARN)
Name: Survey/MISQ_Eagle_Aerial_2016_HARN
Description: MISQ Eagle 2016 Aerial (HARN)
Single Fused Map Cache: false
Extent:
XMin: 6046655.8953341
YMin: 2211428.702520206
XMax: 6049982.8953341
YMax: 2213431.702520206
Spatial Reference: 2875
(2875)
LatestVCSWkid(0)
Initial Extent:
XMin: 6046655.8953341
YMin: 2211428.702520206
XMax: 6049982.8953341
YMax: 2213431.702520206
Spatial Reference: 2875
(2875)
LatestVCSWkid(0)
Full Extent:
XMin: 6046655.8953341
YMin: 2211428.702520206
XMax: 6049982.8953341
YMax: 2213431.702520206
Spatial Reference: 2875
(2875)
LatestVCSWkid(0)
Pixel Size X: 0.25
Pixel Size Y: 0.25
Band Count: 3
Pixel Type: U16
RasterFunction Infos: {"rasterFunctionInfos": [{
"name": "None",
"description": "",
"help": ""
}]}
Mensuration Capabilities: Basic
Inspection Capabilities:
Has Histograms: true
Has Colormap: false
Has Multi Dimensions : false
Rendering Rule:
Min Scale: 0
Max Scale: 0
Copyright Text: Eagle Aerial
Service Data Type: esriImageServiceDataTypeGeneric
Min Values: 0, 0, 0
Max Values: 255, 255, 255
Mean Values: 97.801790279346, 102.65265635701, 74.669007215799
Standard Deviation Values: 53.823303885464, 48.655743910501, 50.685051128871
Object ID Field:
Fields:
None
Default Mosaic Method: Center
Allowed Mosaic Methods:
SortField:
SortValue: null
Mosaic Operator: First
Default Compression Quality: 75
Default Resampling Method: Bilinear
Max Record Count: null
Max Image Height: 4100
Max Image Width: 15000
Max Download Image Count: null
Max Mosaic Image Count: null
Allow Raster Function: true
Allow Copy: true
Allow Analysis: true
Allow Compute TiePoints: false
Supports Statistics: false
Supports Advanced Queries: false
Use StandardizedQueries: true
Raster Type Infos:
Name: Raster Dataset
Description: Supports all ArcGIS Raster Datasets
Help:
Has Raster Attribute Table: false
Edit Fields Info: null
Ownership Based AccessControl For Rasters: null
Child Resources:
Info
Histograms
Statistics
Key Properties
Legend
Raster Function Infos
Supported Operations:
Export Image
Identify
Measure
Compute Histograms
Compute Statistics Histograms
Get Samples
Compute Class Statistics
Query Boundary
Compute Pixel Location
Compute Angles
Validate
Project