View In:
ArcGIS JavaScript
ArcGIS Online Map Viewer
ArcGIS Earth
Service Description: Survey/LIDAR_Topo_Test_2230
Name: Survey/LIDAR_Topo_Test_2230
Description:
Single Fused Map Cache: false
Extent:
XMin: 6111038.143451111
YMin: 2174935.7272931426
XMax: 6112263.543451112
YMax: 2175344.7272931426
Spatial Reference: 102646
(2230)
LatestVCSWkid(0)
Initial Extent:
XMin: 6111038.143451111
YMin: 2174935.7272931426
XMax: 6112263.543451112
YMax: 2175344.7272931426
Spatial Reference: 102646
(2230)
LatestVCSWkid(0)
Full Extent:
XMin: 6111038.143451111
YMin: 2174935.7272931426
XMax: 6112263.543451112
YMax: 2175344.7272931426
Spatial Reference: 102646
(2230)
LatestVCSWkid(0)
Pixel Size X: 0.1000000000000304
Pixel Size Y: 0.1
Band Count: 1
Pixel Type: F32
RasterFunction Infos: {"rasterFunctionInfos": [
{
"name": "None",
"description": "Make a Raster or Raster Dataset into a Function Raster Dataset.",
"help": ""
},
{
"name": "El_Toro_Raster_Diff",
"description": "A raster function template.",
"help": ""
},
{
"name": "El_Toro_Lot11_Diff_Stretched",
"description": "A raster function template.",
"help": ""
},
{
"name": "Canada Channel Difference1",
"description": "Test",
"help": ""
}
]}
Mensuration Capabilities: Basic
Inspection Capabilities:
Has Histograms: true
Has Colormap: false
Has Multi Dimensions : false
Rendering Rule:
Min Scale: 0
Max Scale: 0
Copyright Text:
Service Data Type: esriImageServiceDataTypeGeneric
Min Values: -14.619491577148
Max Values: 5.5675354003906
Mean Values: 0.0016674156159604
Standard Deviation Values: 0.3482429504743
Object ID Field:
Fields:
None
Default Mosaic Method: Center
Allowed Mosaic Methods:
SortField:
SortValue: null
Mosaic Operator: First
Default Compression Quality: 75
Default Resampling Method: Bilinear
Max Record Count: null
Max Image Height: 4100
Max Image Width: 15000
Max Download Image Count: null
Max Mosaic Image Count: null
Allow Raster Function: true
Allow Copy: true
Allow Analysis: true
Allow Compute TiePoints: false
Supports Statistics: false
Supports Advanced Queries: false
Use StandardizedQueries: true
Raster Type Infos:
Name: Raster Dataset
Description: Supports all ArcGIS Raster Datasets
Help:
Has Raster Attribute Table: false
Edit Fields Info: null
Ownership Based AccessControl For Rasters: null
Child Resources:
Info
Histograms
Statistics
Key Properties
Legend
Raster Function Infos
Supported Operations:
Export Image
Identify
Measure
Compute Histograms
Compute Statistics Histograms
Get Samples
Compute Class Statistics
Query Boundary
Compute Pixel Location
Compute Angles
Validate
Project