View In:
ArcGIS JavaScript
ArcGIS Online Map Viewer
ArcGIS Earth
Service Description: Katella Ave Overlay: 12/10/2020 Flight
Name: Survey/Katella_Ave_Overlay_20201210
Description: Katella Ave Overlay: 12/10/2020 Flight
Single Fused Map Cache: false
Extent:
XMin: 6036430.471926234
YMin: 2240012.3039575275
XMax: 6038803.189188533
YMax: 2240287.4136220277
Spatial Reference: 0
(0)
LatestVCSWkid(0)
Initial Extent:
XMin: 6036430.471926234
YMin: 2240012.3039575275
XMax: 6038803.189188533
YMax: 2240287.4136220277
Spatial Reference: 0
(0)
LatestVCSWkid(0)
Full Extent:
XMin: 6036430.471926234
YMin: 2240012.3039575275
XMax: 6038803.189188533
YMax: 2240287.4136220277
Spatial Reference: 0
(0)
LatestVCSWkid(0)
Pixel Size X: 0.03603269999999592
Pixel Size Y: 0.03603270000002951
Band Count: 4
Pixel Type: U8
RasterFunction Infos: {"rasterFunctionInfos": [
{
"name": "RGB Aliso Alpha Composite",
"description": "A raster function template.",
"help": ""
},
{
"name": "None",
"description": "",
"help": ""
}
]}
Mensuration Capabilities: Basic
Inspection Capabilities:
Has Histograms: true
Has Colormap: false
Has Multi Dimensions : false
Rendering Rule:
Min Scale: 0
Max Scale: 0
Copyright Text: OC Survey
Service Data Type: esriImageServiceDataTypeGeneric
Min Values: 0, 0, 0, 0
Max Values: 255, 255, 255, 255
Mean Values: 72.809301091735, 73.774031530123, 78.082806261266, 223.20804101404
Standard Deviation Values: 49.386016274943, 48.217109596013, 49.554542063451, 84.239069910437
Object ID Field:
Fields:
None
Default Mosaic Method: Center
Allowed Mosaic Methods:
SortField:
SortValue: null
Mosaic Operator: First
Default Compression Quality: 75
Default Resampling Method: Bilinear
Max Record Count: null
Max Image Height: 4100
Max Image Width: 15000
Max Download Image Count: null
Max Mosaic Image Count: null
Allow Raster Function: true
Allow Copy: true
Allow Analysis: true
Allow Compute TiePoints: false
Supports Statistics: false
Supports Advanced Queries: false
Use StandardizedQueries: true
Raster Type Infos:
Name: Raster Dataset
Description: Supports all ArcGIS Raster Datasets
Help:
Has Raster Attribute Table: false
Edit Fields Info: null
Ownership Based AccessControl For Rasters: null
Child Resources:
Info
Histograms
Statistics
Key Properties
Legend
Raster Function Infos
Supported Operations:
Export Image
Identify
Measure
Compute Histograms
Compute Statistics Histograms
Get Samples
Compute Class Statistics
Query Boundary
Compute Pixel Location
Compute Angles
Validate
Project