View In:
ArcGIS JavaScript
ArcGIS Online Map Viewer
ArcGIS Earth
Service Description: Hangman's Tree Project Tracking Ortho
Name: Survey/Hangmans_Tree_NAD83
Description: Hangman's Tree Project Tracking Ortho
Single Fused Map Cache: false
Extent:
XMin: 6135884.959985438
YMin: 2207791.5095077776
XMax: 6137005.185493438
YMax: 2209170.5478467774
Spatial Reference: 102646
(2230)
LatestVCSWkid(0)
Initial Extent:
XMin: 6135884.959985438
YMin: 2207791.5095077776
XMax: 6137005.185493438
YMax: 2209170.5478467774
Spatial Reference: 102646
(2230)
LatestVCSWkid(0)
Full Extent:
XMin: 6135884.959985438
YMin: 2207791.5095077776
XMax: 6137005.185493438
YMax: 2209170.5478467774
Spatial Reference: 102646
(2230)
LatestVCSWkid(0)
Pixel Size X: 0.04371099999999104
Pixel Size Y: 0.04371099999999143
Band Count: 3
Pixel Type: U8
RasterFunction Infos: {"rasterFunctionInfos": [
{
"name": "RGB Composite_No_Data",
"description": "A raster function template.",
"help": ""
},
{
"name": "None",
"description": "",
"help": ""
}
]}
Mensuration Capabilities: Basic
Inspection Capabilities:
Has Histograms: true
Has Colormap: false
Has Multi Dimensions : false
Rendering Rule:
Min Scale: 0
Max Scale: 0
Resampling: false
Copyright Text: OC Survey
Service Data Type: esriImageServiceDataTypeRGB
Min Values: 0, 0, 0
Max Values: 255, 255, 255
Mean Values: 65.657212406656, 62.688080650386, 57.861626413917
Standard Deviation Values: 70.4790138118, 67.2495846226, 63.685507534497
Object ID Field:
Fields:
None
Default Mosaic Method: Center
Allowed Mosaic Methods:
SortField:
SortValue: null
Mosaic Operator: First
Default Compression Quality: 75
Default Resampling Method: Bilinear
Max Record Count: null
Max Image Height: 4100
Max Image Width: 15000
Max Download Image Count: null
Max Mosaic Image Count: null
Allow Raster Function: true
Allow Copy: true
Allow Analysis: true
Allow Compute TiePoints: false
Supports Statistics: false
Supports Advanced Queries: false
Use StandardizedQueries: true
Raster Type Infos:
Name: Raster Dataset
Description: Supports all ArcGIS Raster Datasets
Help:
Has Raster Attribute Table: false
Edit Fields Info: null
Ownership Based AccessControl For Rasters: null
Child Resources:
Info
Histograms
Statistics
Key Properties
Legend
Raster Function Infos
Supported Operations:
Export Image
Identify
Measure
Compute Histograms
Compute Statistics Histograms
Get Samples
Compute Class Statistics
Query Boundary
Compute Pixel Location
Compute Angles
Validate
Project