View In:
ArcGIS JavaScript
ArcGIS Online Map Viewer
ArcGIS Earth
Service Description: Hangman's Tree DEM (Drone Survey) in feet
Name: Survey/HT_20171116_Grid_Phantom_dtm_ft
Description: Hangman's Tree DEM (Drone Survey) in feet
Single Fused Map Cache: false
Extent:
XMin: 6136065.500720675
YMin: 2207853.5419773213
XMax: 6136952.605508142
YMax: 2209135.0779969217
Spatial Reference: 102646
(2230)
LatestVCSWkid(0)
Initial Extent:
XMin: 6136065.500720675
YMin: 2207853.5419773213
XMax: 6136952.605508142
YMax: 2209135.0779969217
Spatial Reference: 102646
(2230)
LatestVCSWkid(0)
Full Extent:
XMin: 6136065.500720675
YMin: 2207853.5419773213
XMax: 6136952.605508142
YMax: 2209135.0779969217
Spatial Reference: 102646
(2230)
LatestVCSWkid(0)
Pixel Size X: 0.29238786666679223
Pixel Size Y: 0.29238786666677213
Band Count: 1
Pixel Type: F32
RasterFunction Infos: {"rasterFunctionInfos": [
{
"name": "None",
"description": "Make a Raster or Raster Dataset into a Function Raster Dataset.",
"help": ""
},
{
"name": "Hillshade",
"description": "A raster function template.",
"help": ""
},
{
"name": "Shaded_Relief",
"description": "Slope raster function (white to black)",
"help": ""
},
{
"name": "Slope",
"description": "A raster function template.",
"help": ""
}
]}
Mensuration Capabilities: Basic
Inspection Capabilities:
Has Histograms: true
Has Colormap: false
Has Multi Dimensions : false
Rendering Rule:
Min Scale: 0
Max Scale: 0
Resampling: false
Copyright Text: OC Survey
Service Data Type: esriImageServiceDataTypeGeneric
Min Values: 1157.1125488281
Max Values: 1254.9024658203
Mean Values: 1177.6766432782
Standard Deviation Values: 16.738231835764
Object ID Field:
Fields:
None
Default Mosaic Method: Center
Allowed Mosaic Methods:
SortField:
SortValue: null
Mosaic Operator: First
Default Compression Quality: 75
Default Resampling Method: Bilinear
Max Record Count: null
Max Image Height: 4100
Max Image Width: 15000
Max Download Image Count: null
Max Mosaic Image Count: null
Allow Raster Function: true
Allow Copy: true
Allow Analysis: true
Allow Compute TiePoints: false
Supports Statistics: false
Supports Advanced Queries: false
Use StandardizedQueries: true
Raster Type Infos:
Name: Raster Dataset
Description: Supports all ArcGIS Raster Datasets
Help:
Has Raster Attribute Table: false
Edit Fields Info: null
Ownership Based AccessControl For Rasters: null
Child Resources:
Info
Histograms
Statistics
Key Properties
Legend
Raster Function Infos
Supported Operations:
Export Image
Identify
Measure
Compute Histograms
Compute Statistics Histograms
Get Samples
Compute Class Statistics
Query Boundary
Compute Pixel Location
Compute Angles
Validate
Project