View In:
ArcGIS JavaScript
ArcGIS Online Map Viewer
ArcGIS Earth
Service Description: El Toro Lot 11 Survey Comparison: 02/05/2020 survey difference from 04/01/2019 Survey (in feet)
Name: Survey/El_Toro_Lot_11_20200205_wGCPs_minus_20190401_DSM_Full_Clip
Description: El Toro Lot 11 Survey Comparison: 02/05/2020 survey difference from 04/01/2019 Survey (in feet)
Single Fused Map Cache: false
Extent:
XMin: 6106274.80407264
YMin: 2189562.8151515704
XMax: 6106987.54433664
YMax: 2190432.3807575707
Spatial Reference: 0
(0)
LatestVCSWkid(0)
Initial Extent:
XMin: 6106274.80407264
YMin: 2189562.8151515704
XMax: 6106987.54433664
YMax: 2190432.3807575707
Spatial Reference: 0
(0)
LatestVCSWkid(0)
Full Extent:
XMin: 6106274.80407264
YMin: 2189562.8151515704
XMax: 6106987.54433664
YMax: 2190432.3807575707
Spatial Reference: 0
(0)
LatestVCSWkid(0)
Pixel Size X: 0.2810490000001463
Pixel Size Y: 0.2810490000001188
Band Count: 1
Pixel Type: F32
RasterFunction Infos: {"rasterFunctionInfos": [
{
"name": "El_Toro_Lot11_Diff_Stretched",
"description": "A raster function template.",
"help": ""
},
{
"name": "None",
"description": "",
"help": ""
}
]}
Mensuration Capabilities: Basic
Inspection Capabilities:
Has Histograms: true
Has Colormap: false
Has Multi Dimensions : false
Rendering Rule:
Min Scale: 0
Max Scale: 0
Resampling: false
Copyright Text: OC Survey
Service Data Type: esriImageServiceDataTypeGeneric
Min Values: -5.9559020996094
Max Values: 7.2663421630859
Mean Values: -0.019542987032968
Standard Deviation Values: 1.0333374246727
Object ID Field:
Fields:
None
Default Mosaic Method: Center
Allowed Mosaic Methods:
SortField:
SortValue: null
Mosaic Operator: First
Default Compression Quality: 75
Default Resampling Method: Bilinear
Max Record Count: null
Max Image Height: 4100
Max Image Width: 15000
Max Download Image Count: null
Max Mosaic Image Count: null
Allow Raster Function: true
Allow Copy: true
Allow Analysis: true
Allow Compute TiePoints: false
Supports Statistics: false
Supports Advanced Queries: false
Use StandardizedQueries: true
Raster Type Infos:
Name: Raster Dataset
Description: Supports all ArcGIS Raster Datasets
Help:
Has Raster Attribute Table: false
Edit Fields Info: null
Ownership Based AccessControl For Rasters: null
Child Resources:
Info
Histograms
Statistics
Key Properties
Legend
Raster Function Infos
Supported Operations:
Export Image
Identify
Measure
Compute Histograms
Compute Statistics Histograms
Get Samples
Compute Class Statistics
Query Boundary
Compute Pixel Location
Compute Angles
Validate
Project