View In:
ArcGIS JavaScript
ArcGIS Online Map Viewer
ArcGIS Earth
Service Description: Survey/Building_16_Floor_1
Name: Survey/Building_16_Floor_1
Description:
Single Fused Map Cache: false
Extent:
XMin: 6068539.787765175
YMin: 2220277.1776490873
XMax: 6068927.9139171755
YMax: 2220578.3496350874
Spatial Reference: 0
(0)
LatestVCSWkid(0)
Initial Extent:
XMin: 6068539.787765175
YMin: 2220277.1776490873
XMax: 6068927.9139171755
YMax: 2220578.3496350874
Spatial Reference: 0
(0)
LatestVCSWkid(0)
Full Extent:
XMin: 6068539.787765175
YMin: 2220277.1776490873
XMax: 6068927.9139171755
YMax: 2220578.3496350874
Spatial Reference: 0
(0)
LatestVCSWkid(0)
Pixel Size X: 0.029466000000029607
Pixel Size Y: 0.029466000000014356
Band Count: 3
Pixel Type: U16
RasterFunction Infos: {"rasterFunctionInfos": [{
"name": "None",
"description": "",
"help": ""
}]}
Mensuration Capabilities: Basic
Inspection Capabilities:
Has Histograms: true
Has Colormap: false
Has Multi Dimensions : false
Rendering Rule:
Min Scale: 0
Max Scale: 0
Resampling: false
Copyright Text:
Service Data Type: esriImageServiceDataTypeGeneric
Min Values: 4, 5, 5
Max Values: 255, 255, 255
Mean Values: 243.95650676486, 243.50935168267, 243.48776591152
Standard Deviation Values: 50.311363340986, 51.120016702273, 51.159245683616
Object ID Field:
Fields:
None
Default Mosaic Method: Center
Allowed Mosaic Methods:
SortField:
SortValue: null
Mosaic Operator: First
Default Compression Quality: 75
Default Resampling Method: Bilinear
Max Record Count: null
Max Image Height: 4100
Max Image Width: 15000
Max Download Image Count: null
Max Mosaic Image Count: null
Allow Raster Function: true
Allow Copy: true
Allow Analysis: true
Allow Compute TiePoints: false
Supports Statistics: false
Supports Advanced Queries: false
Use StandardizedQueries: true
Raster Type Infos:
Name: Raster Dataset
Description: Supports all ArcGIS Raster Datasets
Help:
Has Raster Attribute Table: false
Edit Fields Info: null
Ownership Based AccessControl For Rasters: null
Child Resources:
Info
Histograms
Statistics
Key Properties
Legend
Raster Function Infos
Supported Operations:
Export Image
Identify
Measure
Compute Histograms
Compute Statistics Histograms
Get Samples
Compute Class Statistics
Query Boundary
Compute Pixel Location
Compute Angles
Validate
Project