View In:
ArcGIS JavaScript
ArcGIS Online Map Viewer
ArcGIS Earth
Service Description: Survey/Building_16_2018_Eagle_Aerial
Name: Survey/Building_16_2018_Eagle_Aerial
Description:
Single Fused Map Cache: false
Extent:
XMin: 6067545.25
YMin: 2219365.5
XMax: 6070024.75
YMax: 2221415.25
Spatial Reference: 0
(0)
LatestVCSWkid(0)
Initial Extent:
XMin: 6067545.25
YMin: 2219365.5
XMax: 6070024.75
YMax: 2221415.25
Spatial Reference: 0
(0)
LatestVCSWkid(0)
Full Extent:
XMin: 6067545.25
YMin: 2219365.5
XMax: 6070024.75
YMax: 2221415.25
Spatial Reference: 0
(0)
LatestVCSWkid(0)
Pixel Size X: 0.25
Pixel Size Y: 0.25
Band Count: 3
Pixel Type: U8
RasterFunction Infos: {"rasterFunctionInfos": [{
"name": "None",
"description": "",
"help": ""
}]}
Mensuration Capabilities: Basic
Inspection Capabilities:
Has Histograms: true
Has Colormap: false
Has Multi Dimensions : false
Rendering Rule:
Min Scale: 0
Max Scale: 0
Resampling: false
Copyright Text: Eagle Aerial Imaging
Service Data Type: esriImageServiceDataTypeRGB
Min Values: 4, 9, 0
Max Values: 255, 255, 255
Mean Values: 128.67443667416, 128.18292074535, 120.55432099008
Standard Deviation Values: 53.908121305793, 54.204003661398, 52.115471027275
Object ID Field:
Fields:
None
Default Mosaic Method: Center
Allowed Mosaic Methods:
SortField:
SortValue: null
Mosaic Operator: First
Default Compression Quality: 75
Default Resampling Method: Bilinear
Max Record Count: null
Max Image Height: 4100
Max Image Width: 15000
Max Download Image Count: null
Max Mosaic Image Count: null
Allow Raster Function: true
Allow Copy: true
Allow Analysis: true
Allow Compute TiePoints: false
Supports Statistics: false
Supports Advanced Queries: false
Use StandardizedQueries: true
Raster Type Infos:
Name: Raster Dataset
Description: Supports all ArcGIS Raster Datasets
Help:
Has Raster Attribute Table: false
Edit Fields Info: null
Ownership Based AccessControl For Rasters: null
Child Resources:
Info
Histograms
Statistics
Key Properties
Legend
Raster Function Infos
Supported Operations:
Export Image
Identify
Measure
Compute Histograms
Compute Statistics Histograms
Get Samples
Compute Class Statistics
Query Boundary
Compute Pixel Location
Compute Angles
Validate
Project