View In:
ArcGIS JavaScript
ArcGIS Online Map Viewer
ArcGIS Earth
Service Description: Airport Fire Sediment Change 09/19/2024 to 02/20/2025
Name: Survey/Airport_Fire_20220220_20191118_difference
Description: Airport Fire Sediment Change 09/19/2024 to 02/20/2025
Single Fused Map Cache: false
Extent:
XMin: 6160445.730617692
YMin: 2188436.5101666115
XMax: 6168063.669790692
YMax: 2191865.9745036117
Spatial Reference: 0
(0)
LatestVCSWkid(0)
Initial Extent:
XMin: 6160445.730617692
YMin: 2188436.5101666115
XMax: 6168063.669790692
YMax: 2191865.9745036117
Spatial Reference: 0
(0)
LatestVCSWkid(0)
Full Extent:
XMin: 6160445.730617692
YMin: 2188436.5101666115
XMax: 6168063.669790692
YMax: 2191865.9745036117
Spatial Reference: 0
(0)
LatestVCSWkid(0)
Pixel Size X: 0.16277299999999859
Pixel Size Y: 0.1627730000000075
Band Count: 1
Pixel Type: F32
RasterFunction Infos: {"rasterFunctionInfos": [
{
"name": "10_Foot_Sediment_Change",
"description": "A raster function template.",
"help": ""
},
{
"name": "None",
"description": "",
"help": ""
}
]}
Mensuration Capabilities: Basic
Inspection Capabilities:
Has Histograms: true
Has Colormap: false
Has Multi Dimensions : false
Rendering Rule:
Min Scale: 0
Max Scale: 0
Copyright Text:
Service Data Type: esriImageServiceDataTypeGeneric
Min Values: -27.596435546875
Max Values: 33.634033203125
Mean Values: 0.45649765273034
Standard Deviation Values: 1.1526211082271
Object ID Field:
Fields:
None
Default Mosaic Method: Center
Allowed Mosaic Methods:
SortField:
SortValue: null
Mosaic Operator: First
Default Compression Quality: 75
Default Resampling Method: Bilinear
Max Record Count: null
Max Image Height: 4100
Max Image Width: 15000
Max Download Image Count: null
Max Mosaic Image Count: null
Allow Raster Function: true
Allow Copy: true
Allow Analysis: true
Allow Compute TiePoints: false
Supports Statistics: false
Supports Advanced Queries: false
Use StandardizedQueries: true
Raster Type Infos:
Name: Raster Dataset
Description: Supports all ArcGIS Raster Datasets
Help:
Has Raster Attribute Table: false
Edit Fields Info: null
Ownership Based AccessControl For Rasters: null
Child Resources:
Info
Histograms
Statistics
Key Properties
Legend
Raster Function Infos
Supported Operations:
Export Image
Identify
Measure
Compute Histograms
Compute Statistics Histograms
Get Samples
Compute Class Statistics
Query Boundary
Compute Pixel Location
Compute Angles
Validate
Project