View In:
ArcGIS JavaScript
ArcGIS Online Map Viewer
ArcGIS Earth
Service Description: Survey/Agua_Chinon_2023_Sediment_Diff_from_As_Built_tif
Name: Survey/Agua_Chinon_2023_Sediment_Diff_from_As_Built_tif
Description:
Single Fused Map Cache: false
Extent:
XMin: 6122022.468645038
YMin: 2197029.6751154806
XMax: 6123535.873295189
YMax: 2198658.671402472
Spatial Reference: 103008
(6426)
VCSWkid(105703)
LatestVCSWkid(6360)
Initial Extent:
XMin: 6122022.468645038
YMin: 2197029.6751154806
XMax: 6123535.873295189
YMax: 2198658.671402472
Spatial Reference: 103008
(6426)
VCSWkid(105703)
LatestVCSWkid(6360)
Full Extent:
XMin: 6122022.468645038
YMin: 2197029.6751154806
XMax: 6123535.873295189
YMax: 2198658.671402472
Spatial Reference: 103008
(6426)
VCSWkid(105703)
LatestVCSWkid(6360)
Pixel Size X: 0.28193082156311444
Pixel Size Y: 0.28193082156308724
Band Count: 1
Pixel Type: F32
RasterFunction Infos: {"rasterFunctionInfos": [
{
"name": "Bare_Earth_Change_Green_to_Red",
"description": "A raster function template.",
"help": ""
},
{
"name": "None",
"description": "",
"help": ""
}
]}
Mensuration Capabilities: Basic
Inspection Capabilities:
Has Histograms: true
Has Colormap: false
Has Multi Dimensions : false
Rendering Rule:
Min Scale: 0
Max Scale: 0
Copyright Text:
Service Data Type: esriImageServiceDataTypeGeneric
Min Values: -13.52734375
Max Values: 25.718200683594
Mean Values: 1.8811873466924
Standard Deviation Values: 2.3157102678496
Object ID Field:
Fields:
None
Default Mosaic Method: Center
Allowed Mosaic Methods:
SortField:
SortValue: null
Mosaic Operator: First
Default Compression Quality: 75
Default Resampling Method: Bilinear
Max Record Count: null
Max Image Height: 4100
Max Image Width: 15000
Max Download Image Count: null
Max Mosaic Image Count: null
Allow Raster Function: true
Allow Copy: true
Allow Analysis: true
Allow Compute TiePoints: false
Supports Statistics: false
Supports Advanced Queries: false
Use StandardizedQueries: true
Raster Type Infos:
Name: Raster Dataset
Description: Supports all ArcGIS Raster Datasets
Help:
Has Raster Attribute Table: false
Edit Fields Info: null
Ownership Based AccessControl For Rasters: null
Child Resources:
Info
Histograms
Statistics
Key Properties
Legend
Raster Function Infos
Supported Operations:
Export Image
Identify
Measure
Compute Histograms
Compute Statistics Histograms
Get Samples
Compute Class Statistics
Query Boundary
Compute Pixel Location
Compute Angles
Validate
Project