View In:
ArcGIS JavaScript
ArcGIS Online Map Viewer
ArcGIS Earth
Service Description: Agua Chinon DEM comparison:
(DMI 3ft DEM minus As Built DEM) Blues: As Built is Higher
Greens: DMI Survey is Higher
Name: Survey/Agua_Chinon_2020_DMI_3ft_DEM_minus_As_Built
Description: Agua Chinon DEM comparison:
(DMI 3ft DEM minus As Built DEM) Blues: As Built is Higher
Greens: DMI Survey is Higher
Single Fused Map Cache: false
Extent:
XMin: 6122022.357127393
YMin: 2197029.681035831
XMax: 6123534.357127393
YMax: 2198658.681035831
Spatial Reference: 0
(0)
LatestVCSWkid(0)
Initial Extent:
XMin: 6122022.357127393
YMin: 2197029.681035831
XMax: 6123534.357127393
YMax: 2198658.681035831
Spatial Reference: 0
(0)
LatestVCSWkid(0)
Full Extent:
XMin: 6122022.357127393
YMin: 2197029.681035831
XMax: 6123534.357127393
YMax: 2198658.681035831
Spatial Reference: 0
(0)
LatestVCSWkid(0)
Pixel Size X: 3.0
Pixel Size Y: 3.0
Band Count: 1
Pixel Type: F32
RasterFunction Infos: {"rasterFunctionInfos": [
{
"name": "AC_As_Built_Ramp",
"description": "A raster function template.",
"help": ""
},
{
"name": "AC_Classified",
"description": "A raster function template.",
"help": ""
},
{
"name": "El_Toro_Raster_Diff",
"description": "A raster function template.",
"help": ""
},
{
"name": "El_Toro_Lot11_Diff_Stretched",
"description": "A raster function template.",
"help": ""
},
{
"name": "None",
"description": "",
"help": ""
}
]}
Mensuration Capabilities: Basic
Inspection Capabilities:
Has Histograms: true
Has Colormap: false
Has Multi Dimensions : false
Rendering Rule:
Min Scale: 0
Max Scale: 0
Copyright Text: OC Survey, DMI
Service Data Type: esriImageServiceDataTypeGeneric
Min Values: -13.258544921875
Max Values: 24.402160644531
Mean Values: 1.36487639748
Standard Deviation Values: 2.3049768096474
Object ID Field:
Fields:
None
Default Mosaic Method: Center
Allowed Mosaic Methods:
SortField:
SortValue: null
Mosaic Operator: First
Default Compression Quality: 75
Default Resampling Method: Bilinear
Max Record Count: null
Max Image Height: 4100
Max Image Width: 15000
Max Download Image Count: null
Max Mosaic Image Count: null
Allow Raster Function: true
Allow Copy: true
Allow Analysis: true
Allow Compute TiePoints: false
Supports Statistics: false
Supports Advanced Queries: false
Use StandardizedQueries: true
Raster Type Infos:
Name: Raster Dataset
Description: Supports all ArcGIS Raster Datasets
Help:
Has Raster Attribute Table: false
Edit Fields Info: null
Ownership Based AccessControl For Rasters: null
Child Resources:
Info
Histograms
Statistics
Key Properties
Legend
Raster Function Infos
Supported Operations:
Export Image
Identify
Measure
Compute Histograms
Compute Statistics Histograms
Get Samples
Compute Class Statistics
Query Boundary
Compute Pixel Location
Compute Angles
Validate
Project