View In:
ArcGIS JavaScript
ArcGIS Online Map Viewer
ArcGIS Earth
Service Description: Agua Chinon, 2020 DMI 2 inch Orthophoto
Name: Survey/Agua_Chinon_2020_DMI_2in_Orthophoto
Description: Agua Chinon, 2020 DMI 2 inch Orthophoto
Single Fused Map Cache: false
Extent:
XMin: 6121044.07625555
YMin: 2196224.09429641
XMax: 6124179.835255549
YMax: 2199447.36129641
Spatial Reference: 102646
(2230)
LatestVCSWkid(0)
Initial Extent:
XMin: 6121044.07625555
YMin: 2196224.09429641
XMax: 6124179.835255549
YMax: 2199447.36129641
Spatial Reference: 102646
(2230)
LatestVCSWkid(0)
Full Extent:
XMin: 6121044.07625555
YMin: 2196224.09429641
XMax: 6124179.835255549
YMax: 2199447.36129641
Spatial Reference: 102646
(2230)
LatestVCSWkid(0)
Pixel Size X: 0.16699999999997936
Pixel Size Y: 0.16699999999999962
Band Count: 3
Pixel Type: U8
RasterFunction Infos: {"rasterFunctionInfos": [
{
"name": "None",
"description": "Make a Raster or Raster Dataset into a Function Raster Dataset.",
"help": ""
},
{
"name": "RGB Composite_Aliso",
"description": "A raster function template.",
"help": ""
}
]}
Mensuration Capabilities: Basic
Inspection Capabilities:
Has Histograms: true
Has Colormap: false
Has Multi Dimensions : false
Rendering Rule:
Min Scale: 0
Max Scale: 0
Copyright Text: DMI
Service Data Type: esriImageServiceDataTypeRGB
Min Values: 7, 14, 12
Max Values: 255, 255, 255
Mean Values: 160.72986713698, 157.68104573129, 135.67388755858
Standard Deviation Values: 49.289967337363, 47.307275653977, 47.322526595063
Object ID Field:
Fields:
None
Default Mosaic Method: Center
Allowed Mosaic Methods:
SortField:
SortValue: null
Mosaic Operator: First
Default Compression Quality: 75
Default Resampling Method: Bilinear
Max Record Count: null
Max Image Height: 4100
Max Image Width: 15000
Max Download Image Count: null
Max Mosaic Image Count: null
Allow Raster Function: true
Allow Copy: true
Allow Analysis: true
Allow Compute TiePoints: false
Supports Statistics: false
Supports Advanced Queries: false
Use StandardizedQueries: true
Raster Type Infos:
Name: Raster Dataset
Description: Supports all ArcGIS Raster Datasets
Help:
Has Raster Attribute Table: false
Edit Fields Info: null
Ownership Based AccessControl For Rasters: null
Child Resources:
Info
Histograms
Statistics
Key Properties
Legend
Raster Function Infos
Supported Operations:
Export Image
Identify
Measure
Compute Histograms
Compute Statistics Histograms
Get Samples
Compute Class Statistics
Query Boundary
Compute Pixel Location
Compute Angles
Validate
Project