View In:
ArcGIS JavaScript
ArcGIS Online Map Viewer
ArcGIS Earth
Service Description: Survey/265_S_Anita_Topo
Name: Survey/265_S_Anita_Topo
Description:
Single Fused Map Cache: false
Extent:
XMin: 6065946.844669238
YMin: 2232807.7530593905
XMax: 6066426.533561027
YMax: 2233526.3383953115
Spatial Reference: 102646
(2230)
LatestVCSWkid(0)
Initial Extent:
XMin: 6065946.844669238
YMin: 2232807.7530593905
XMax: 6066426.533561027
YMax: 2233526.3383953115
Spatial Reference: 102646
(2230)
LatestVCSWkid(0)
Full Extent:
XMin: 6065946.844669238
YMin: 2232807.7530593905
XMax: 6066426.533561027
YMax: 2233526.3383953115
Spatial Reference: 102646
(2230)
LatestVCSWkid(0)
Pixel Size X: 0.09978965920302571
Pixel Size Y: 0.0997896592030316
Band Count: 1
Pixel Type: U16
RasterFunction Infos: {"rasterFunctionInfos": [{
"name": "None",
"description": "",
"help": ""
}]}
Mensuration Capabilities: Basic
Inspection Capabilities:
Has Histograms: true
Has Colormap: false
Has Multi Dimensions : false
Rendering Rule:
Min Scale: 0
Max Scale: 0
Resampling: false
Copyright Text: OC Survey
Service Data Type: esriImageServiceDataTypeGeneric
Min Values: 0
Max Values: 255
Mean Values: 241.14147068754
Standard Deviation Values: 50.127786890322
Object ID Field:
Fields:
None
Default Mosaic Method: Center
Allowed Mosaic Methods:
SortField:
SortValue: null
Mosaic Operator: First
Default Compression Quality: 75
Default Resampling Method: Bilinear
Max Record Count: null
Max Image Height: 4100
Max Image Width: 15000
Max Download Image Count: null
Max Mosaic Image Count: null
Allow Raster Function: true
Allow Copy: true
Allow Analysis: true
Allow Compute TiePoints: false
Supports Statistics: false
Supports Advanced Queries: false
Use StandardizedQueries: true
Raster Type Infos:
Name: Raster Dataset
Description: Supports all ArcGIS Raster Datasets
Help:
Has Raster Attribute Table: false
Edit Fields Info: null
Ownership Based AccessControl For Rasters: null
Child Resources:
Info
Histograms
Statistics
Key Properties
Legend
Raster Function Infos
Supported Operations:
Export Image
Identify
Measure
Compute Histograms
Compute Statistics Histograms
Get Samples
Compute Class Statistics
Query Boundary
Compute Pixel Location
Compute Angles
Validate
Project