View In:
ArcGIS JavaScript
ArcGIS Online Map Viewer
ArcGIS Earth
Service Description: Survey/20260211_Agua_Chinon_CutFill_tif
Name: Survey/20260211_Agua_Chinon_CutFill_tif
Description:
Single Fused Map Cache: false
Extent:
XMin: 6122022.357127393
YMin: 2197029.681035831
XMax: 6123535.917912393
YMax: 2198658.385915831
Spatial Reference: 102646
(2230)
LatestVCSWkid(0)
Initial Extent:
XMin: 6122022.357127393
YMin: 2197029.681035831
XMax: 6123535.917912393
YMax: 2198658.385915831
Spatial Reference: 102646
(2230)
LatestVCSWkid(0)
Full Extent:
XMin: 6122022.357127393
YMin: 2197029.681035831
XMax: 6123535.917912393
YMax: 2198658.385915831
Spatial Reference: 102646
(2230)
LatestVCSWkid(0)
Pixel Size X: 0.1517050000000213
Pixel Size Y: 0.15170500000000858
Band Count: 1
Pixel Type: S32
RasterFunction Infos: {"rasterFunctionInfos": [
{
"name": "Cut_Fill_Classified",
"description": "A raster function template.",
"help": ""
},
{
"name": "None",
"description": "",
"help": ""
}
]}
Mensuration Capabilities: Basic
Inspection Capabilities:
Has Histograms: true
Has Colormap: false
Has Multi Dimensions : false
Rendering Rule:
Min Scale: 0
Max Scale: 0
Copyright Text:
Service Data Type: esriImageServiceDataTypeGeneric
Min Values: 1
Max Values: 5333
Mean Values: 367.69909948022
Standard Deviation Values: 1007.729522851
Object ID Field:
Fields:
None
Default Mosaic Method: Center
Allowed Mosaic Methods:
SortField:
SortValue: null
Mosaic Operator: First
Default Compression Quality: 75
Default Resampling Method: Bilinear
Max Record Count: null
Max Image Height: 4100
Max Image Width: 15000
Max Download Image Count: null
Max Mosaic Image Count: null
Allow Raster Function: true
Allow Copy: true
Allow Analysis: true
Allow Compute TiePoints: false
Supports Statistics: false
Supports Advanced Queries: false
Use StandardizedQueries: true
Raster Type Infos:
Name: Raster Dataset
Description: Supports all ArcGIS Raster Datasets
Help:
Has Raster Attribute Table: false
Edit Fields Info: null
Ownership Based AccessControl For Rasters: null
Child Resources:
Info
Histograms
Statistics
Key Properties
Legend
Raster Function Infos
Supported Operations:
Export Image
Identify
Measure
Compute Histograms
Compute Statistics Histograms
Get Samples
Compute Class Statistics
Query Boundary
Compute Pixel Location
Compute Angles
Validate
Project