View In:
ArcGIS JavaScript
ArcGIS Online Map Viewer
ArcGIS Earth
Service Description: Lower Peters Canyon Cut/Fill 11/25/2024 compared to AsBuilt
Name: Survey/20241125_Lower_Peters_Canyon_Reservoir_CutFill
Description: Lower Peters Canyon Cut/Fill 11/25/2024 compared to AsBuilt
Single Fused Map Cache: false
Extent:
XMin: 6098806.310999999
YMin: 2222822.9629999995
XMax: 6099592.310999999
YMax: 2224139.9629999995
Spatial Reference: 102646
(2230)
LatestVCSWkid(0)
Initial Extent:
XMin: 6098806.310999999
YMin: 2222822.9629999995
XMax: 6099592.310999999
YMax: 2224139.9629999995
Spatial Reference: 102646
(2230)
LatestVCSWkid(0)
Full Extent:
XMin: 6098806.310999999
YMin: 2222822.9629999995
XMax: 6099592.310999999
YMax: 2224139.9629999995
Spatial Reference: 102646
(2230)
LatestVCSWkid(0)
Pixel Size X: 0.5
Pixel Size Y: 0.5
Band Count: 1
Pixel Type: S32
RasterFunction Infos: {"rasterFunctionInfos": [
{
"name": "Cut_Fill_Classified",
"description": "A raster function template.",
"help": ""
},
{
"name": "None",
"description": "",
"help": ""
}
]}
Mensuration Capabilities: Basic
Inspection Capabilities:
Has Histograms: true
Has Colormap: false
Has Multi Dimensions : false
Rendering Rule:
Min Scale: 0
Max Scale: 0
Copyright Text: OC Survey
Service Data Type: esriImageServiceDataTypeGeneric
Min Values: 1
Max Values: 6733
Mean Values: 785.90399742044
Standard Deviation Values: 1320.8872775443
Object ID Field:
Fields:
None
Default Mosaic Method: Center
Allowed Mosaic Methods:
SortField:
SortValue: null
Mosaic Operator: First
Default Compression Quality: 75
Default Resampling Method: Bilinear
Max Record Count: null
Max Image Height: 4100
Max Image Width: 15000
Max Download Image Count: null
Max Mosaic Image Count: null
Allow Raster Function: true
Allow Copy: true
Allow Analysis: true
Allow Compute TiePoints: false
Supports Statistics: false
Supports Advanced Queries: false
Use StandardizedQueries: true
Raster Type Infos:
Name: Raster Dataset
Description: Supports all ArcGIS Raster Datasets
Help:
Has Raster Attribute Table: false
Edit Fields Info: null
Ownership Based AccessControl For Rasters: null
Child Resources:
Info
Histograms
Statistics
Key Properties
Legend
Raster Function Infos
Supported Operations:
Export Image
Identify
Measure
Compute Histograms
Compute Statistics Histograms
Get Samples
Compute Class Statistics
Query Boundary
Compute Pixel Location
Compute Angles
Validate
Project