View In:
ArcGIS JavaScript
ArcGIS Online Map Viewer
ArcGIS Earth
Service Description: Survey/20240429_Aliso_Creek_Restoration_NDVI
Name: Survey/20240429_Aliso_Creek_Restoration_NDVI
Description:
Single Fused Map Cache: false
Extent:
XMin: 6127072.717327114
YMin: 2176424.229812454
XMax: 6128905.695505755
YMax: 2177955.8459249935
Spatial Reference: 102646
(2230)
LatestVCSWkid(0)
Initial Extent:
XMin: 6127072.717327114
YMin: 2176424.229812454
XMax: 6128905.695505755
YMax: 2177955.8459249935
Spatial Reference: 102646
(2230)
LatestVCSWkid(0)
Full Extent:
XMin: 6127072.717327114
YMin: 2176424.229812454
XMax: 6128905.695505755
YMax: 2177955.8459249935
Spatial Reference: 102646
(2230)
LatestVCSWkid(0)
Pixel Size X: 0.15991783097546916
Pixel Size Y: 0.16149473982913798
Band Count: 1
Pixel Type: F32
RasterFunction Infos: {"rasterFunctionInfos": [{
"name": "None",
"description": "",
"help": ""
}]}
Mensuration Capabilities: Basic
Inspection Capabilities:
Has Histograms: true
Has Colormap: false
Has Multi Dimensions : false
Rendering Rule:
Min Scale: 0
Max Scale: 0
Resampling: false
Copyright Text:
Service Data Type: esriImageServiceDataTypeGeneric
Min Values: -1
Max Values: 1
Mean Values: 0.62174373715958
Standard Deviation Values: 0.26794820319756
Object ID Field:
Fields:
None
Default Mosaic Method: Center
Allowed Mosaic Methods:
SortField:
SortValue: null
Mosaic Operator: First
Default Compression Quality: 75
Default Resampling Method: Bilinear
Max Record Count: null
Max Image Height: 4100
Max Image Width: 15000
Max Download Image Count: null
Max Mosaic Image Count: null
Allow Raster Function: true
Allow Copy: true
Allow Analysis: true
Allow Compute TiePoints: false
Supports Statistics: false
Supports Advanced Queries: false
Use StandardizedQueries: true
Raster Type Infos:
Name: Raster Dataset
Description: Supports all ArcGIS Raster Datasets
Help:
Has Raster Attribute Table: false
Edit Fields Info: null
Ownership Based AccessControl For Rasters: null
Child Resources:
Info
Histograms
Statistics
Key Properties
Legend
Raster Function Infos
Supported Operations:
Export Image
Identify
Measure
Compute Histograms
Compute Statistics Histograms
Get Samples
Compute Class Statistics
Query Boundary
Compute Pixel Location
Compute Angles
Validate
Project