View In:
ArcGIS JavaScript
ArcGIS Online Map Viewer
ArcGIS Earth
Service Description: Survey/20221130__Hicks_Cut_Fill_Clipped_to_Work_Area
Name: Survey/20221130__Hicks_Cut_Fill_Clipped_to_Work_Area
Description:
Single Fused Map Cache: false
Extent:
XMin: 6116023.355758808
YMin: 2214288.3415766726
XMax: 6116557.741278808
YMax: 2214603.134621673
Spatial Reference: 0
(0)
LatestVCSWkid(0)
Initial Extent:
XMin: 6116023.355758808
YMin: 2214288.3415766726
XMax: 6116557.741278808
YMax: 2214603.134621673
Spatial Reference: 0
(0)
LatestVCSWkid(0)
Full Extent:
XMin: 6116023.355758808
YMin: 2214288.3415766726
XMax: 6116557.741278808
YMax: 2214603.134621673
Spatial Reference: 0
(0)
LatestVCSWkid(0)
Pixel Size X: 0.2629850000000053
Pixel Size Y: 0.26298500000014463
Band Count: 1
Pixel Type: S16
RasterFunction Infos: {"rasterFunctionInfos": [
{
"name": "Cut_Fill_Classified",
"description": "A raster function template.",
"help": ""
},
{
"name": "Cut_Fill",
"description": "A raster function template.",
"help": ""
},
{
"name": "None",
"description": "",
"help": ""
}
]}
Mensuration Capabilities: Basic
Inspection Capabilities:
Has Histograms: true
Has Colormap: false
Has Multi Dimensions : false
Rendering Rule:
Min Scale: 0
Max Scale: 0
Copyright Text: OC Survey
Service Data Type: esriImageServiceDataTypeThematic
Min Values: 1
Max Values: 728
Mean Values: 37.184852088082
Standard Deviation Values: 121.89133716569
Object ID Field:
Fields:
None
Default Mosaic Method: Center
Allowed Mosaic Methods:
SortField:
SortValue: null
Mosaic Operator: First
Default Compression Quality: 75
Default Resampling Method: Bilinear
Max Record Count: null
Max Image Height: 4100
Max Image Width: 15000
Max Download Image Count: null
Max Mosaic Image Count: null
Allow Raster Function: true
Allow Copy: true
Allow Analysis: true
Allow Compute TiePoints: false
Supports Statistics: false
Supports Advanced Queries: false
Use StandardizedQueries: true
Raster Type Infos:
Name: Raster Dataset
Description: Supports all ArcGIS Raster Datasets
Help:
Has Raster Attribute Table: true
Edit Fields Info: null
Ownership Based AccessControl For Rasters: null
Child Resources:
Info
Raster Attribute Table
Histograms
Statistics
Key Properties
Legend
Raster Function Infos
Supported Operations:
Export Image
Identify
Measure
Compute Histograms
Compute Statistics Histograms
Get Samples
Compute Class Statistics
Query Boundary
Compute Pixel Location
Compute Angles
Validate
Project