View In:
ArcGIS JavaScript
ArcGIS Online Map Viewer
ArcGIS Earth
Service Description: Survey/20220727_Hicks_Cut_Fill_Clipped_to_Basin_Boundary
Name: Survey/20220727_Hicks_Cut_Fill_Clipped_to_Basin_Boundary
Description:
Single Fused Map Cache: false
Extent:
XMin: 6115895.866
YMin: 2213953.0
XMax: 6116876.866
YMax: 2214712.0
Spatial Reference: 102646
(2230)
VCSWkid(5773)
LatestVCSWkid(5773)
Initial Extent:
XMin: 6115895.866
YMin: 2213953.0
XMax: 6116876.866
YMax: 2214712.0
Spatial Reference: 102646
(2230)
VCSWkid(5773)
LatestVCSWkid(5773)
Full Extent:
XMin: 6115895.866
YMin: 2213953.0
XMax: 6116876.866
YMax: 2214712.0
Spatial Reference: 102646
(2230)
VCSWkid(5773)
LatestVCSWkid(5773)
Pixel Size X: 1.0
Pixel Size Y: 1.0
Band Count: 1
Pixel Type: S32
RasterFunction Infos: {"rasterFunctionInfos": [
{
"name": "Cut_Fill_Classified",
"description": "A raster function template.",
"help": ""
},
{
"name": "Cut_Fill",
"description": "A raster function template.",
"help": ""
},
{
"name": "None",
"description": "",
"help": ""
}
]}
Mensuration Capabilities: Basic
Inspection Capabilities:
Has Histograms: true
Has Colormap: false
Has Multi Dimensions : false
Rendering Rule:
Min Scale: 0
Max Scale: 0
Copyright Text: OC Survey
Service Data Type: esriImageServiceDataTypeGeneric
Min Values: 1
Max Values: 397
Mean Values: 46.599561438122
Standard Deviation Values: 95.337079076302
Object ID Field:
Fields:
None
Default Mosaic Method: Center
Allowed Mosaic Methods:
SortField:
SortValue: null
Mosaic Operator: First
Default Compression Quality: 75
Default Resampling Method: Bilinear
Max Record Count: null
Max Image Height: 4100
Max Image Width: 15000
Max Download Image Count: null
Max Mosaic Image Count: null
Allow Raster Function: true
Allow Copy: true
Allow Analysis: true
Allow Compute TiePoints: false
Supports Statistics: false
Supports Advanced Queries: false
Use StandardizedQueries: true
Raster Type Infos:
Name: Raster Dataset
Description: Supports all ArcGIS Raster Datasets
Help:
Has Raster Attribute Table: true
Edit Fields Info: null
Ownership Based AccessControl For Rasters: null
Child Resources:
Info
Raster Attribute Table
Histograms
Statistics
Key Properties
Legend
Raster Function Infos
Supported Operations:
Export Image
Identify
Measure
Compute Histograms
Compute Statistics Histograms
Get Samples
Compute Class Statistics
Query Boundary
Compute Pixel Location
Compute Angles
Validate
Project