View In:
ArcGIS JavaScript
ArcGIS Online Map Viewer
ArcGIS Earth
Service Description: Survey/20220721_Round_Cyn_Basin_CutFill
Name: Survey/20220721_Round_Cyn_Basin_CutFill
Description:
Single Fused Map Cache: false
Extent:
XMin: 6120703.139819976
YMin: 2200806.380199107
XMax: 6121634.139819976
YMax: 2202020.380199107
Spatial Reference: 102646
(2230)
LatestVCSWkid(0)
Initial Extent:
XMin: 6120703.139819976
YMin: 2200806.380199107
XMax: 6121634.139819976
YMax: 2202020.380199107
Spatial Reference: 102646
(2230)
LatestVCSWkid(0)
Full Extent:
XMin: 6120703.139819976
YMin: 2200806.380199107
XMax: 6121634.139819976
YMax: 2202020.380199107
Spatial Reference: 102646
(2230)
LatestVCSWkid(0)
Pixel Size X: 1.0
Pixel Size Y: 1.0
Band Count: 1
Pixel Type: S32
RasterFunction Infos: {"rasterFunctionInfos": [
{
"name": "Cut_Fill_Classified",
"description": "A raster function template.",
"help": ""
},
{
"name": "Cut_Fill",
"description": "A raster function template.",
"help": ""
},
{
"name": "None",
"description": "",
"help": ""
}
]}
Mensuration Capabilities: Basic
Inspection Capabilities:
Has Histograms: true
Has Colormap: false
Has Multi Dimensions : false
Rendering Rule:
Min Scale: 0
Max Scale: 0
Copyright Text: OC Survey
Service Data Type: esriImageServiceDataTypeGeneric
Min Values: 1
Max Values: 6811
Mean Values: 1226.5480689035
Standard Deviation Values: 1767.7478655177
Object ID Field:
Fields:
None
Default Mosaic Method: Center
Allowed Mosaic Methods:
SortField:
SortValue: null
Mosaic Operator: First
Default Compression Quality: 75
Default Resampling Method: Bilinear
Max Record Count: null
Max Image Height: 4100
Max Image Width: 15000
Max Download Image Count: null
Max Mosaic Image Count: null
Allow Raster Function: true
Allow Copy: true
Allow Analysis: true
Allow Compute TiePoints: false
Supports Statistics: false
Supports Advanced Queries: false
Use StandardizedQueries: true
Raster Type Infos:
Name: Raster Dataset
Description: Supports all ArcGIS Raster Datasets
Help:
Has Raster Attribute Table: false
Edit Fields Info: null
Ownership Based AccessControl For Rasters: null
Child Resources:
Info
Histograms
Statistics
Key Properties
Legend
Raster Function Infos
Supported Operations:
Export Image
Identify
Measure
Compute Histograms
Compute Statistics Histograms
Get Samples
Compute Class Statistics
Query Boundary
Compute Pixel Location
Compute Angles
Validate
Project