View In:
ArcGIS JavaScript
ArcGIS Online Map Viewer
ArcGIS Earth
Service Description: La Pata V-Ditches Survey, 05/24/2021
Name: Survey/20210524_La_Pata_V_Ditches
Description: La Pata V-Ditches Survey, 05/24/2021
Single Fused Map Cache: false
Extent:
XMin: 6142933.232786765
YMin: 2116716.030031116
XMax: 6148714.964294765
YMax: 2134885.066357116
Spatial Reference: 0
(0)
LatestVCSWkid(0)
Initial Extent:
XMin: 6142933.232786765
YMin: 2116716.030031116
XMax: 6148714.964294765
YMax: 2134885.066357116
Spatial Reference: 0
(0)
LatestVCSWkid(0)
Full Extent:
XMin: 6142933.232786765
YMin: 2116716.030031116
XMax: 6148714.964294765
YMax: 2134885.066357116
Spatial Reference: 0
(0)
LatestVCSWkid(0)
Pixel Size X: 0.11327399999999652
Pixel Size Y: 0.11327400000000001
Band Count: 4
Pixel Type: U8
RasterFunction Infos: {"rasterFunctionInfos": [
{
"name": "RGB Aliso Alpha Composite",
"description": "A raster function template.",
"help": ""
},
{
"name": "None",
"description": "",
"help": ""
}
]}
Mensuration Capabilities: Basic
Inspection Capabilities:
Has Histograms: false
Has Colormap: false
Has Multi Dimensions : false
Rendering Rule:
Min Scale: 0
Max Scale: 0
Resampling: false
Copyright Text: OC Survey
Service Data Type: esriImageServiceDataTypeGeneric
Min Values: N/A
Max Values: N/A
Mean Values: N/A
Standard Deviation Values: N/A
Object ID Field:
Fields:
None
Default Mosaic Method: Center
Allowed Mosaic Methods:
SortField:
SortValue: null
Mosaic Operator: First
Default Compression Quality: 75
Default Resampling Method: Bilinear
Max Record Count: null
Max Image Height: 4100
Max Image Width: 15000
Max Download Image Count: null
Max Mosaic Image Count: null
Allow Raster Function: true
Allow Copy: true
Allow Analysis: true
Allow Compute TiePoints: false
Supports Statistics: false
Supports Advanced Queries: false
Use StandardizedQueries: true
Raster Type Infos:
Name: Raster Dataset
Description: Supports all ArcGIS Raster Datasets
Help:
Has Raster Attribute Table: false
Edit Fields Info: null
Ownership Based AccessControl For Rasters: null
Child Resources:
Info
Statistics
Key Properties
Legend
Raster Function Infos
Supported Operations:
Export Image
Identify
Measure
Compute Histograms
Compute Statistics Histograms
Get Samples
Compute Class Statistics
Query Boundary
Compute Pixel Location
Compute Angles
Validate
Project