View In:
ArcGIS JavaScript
ArcGIS Online Map Viewer
ArcGIS Earth
Service Description: Round Canyon Basin CutFill Analysis
Name: Survey/20210202_Round_Cyn_20201106_Cut_Fill
Description: Round Canyon Basin CutFill Analysis
Single Fused Map Cache: false
Extent:
XMin: 6121005.945205929
YMin: 2201162.0470338296
XMax: 6121405.465630929
YMax: 2201743.85628883
Spatial Reference: 0
(0)
LatestVCSWkid(0)
Initial Extent:
XMin: 6121005.945205929
YMin: 2201162.0470338296
XMax: 6121405.465630929
YMax: 2201743.85628883
Spatial Reference: 0
(0)
LatestVCSWkid(0)
Full Extent:
XMin: 6121005.945205929
YMin: 2201162.0470338296
XMax: 6121405.465630929
YMax: 2201743.85628883
Spatial Reference: 0
(0)
LatestVCSWkid(0)
Pixel Size X: 0.24435500000013943
Pixel Size Y: 0.24435500000008561
Band Count: 1
Pixel Type: S32
RasterFunction Infos: {"rasterFunctionInfos": [
{
"name": "Cut_Fill_Classified",
"description": "A raster function template.",
"help": ""
},
{
"name": "None",
"description": "",
"help": ""
}
]}
Mensuration Capabilities: Basic
Inspection Capabilities:
Has Histograms: false
Has Colormap: false
Has Multi Dimensions : false
Rendering Rule:
Min Scale: 0
Max Scale: 0
Resampling: false
Copyright Text: OC Survey
Service Data Type: esriImageServiceDataTypeGeneric
Min Values: 1
Max Values: 770
Mean Values: 31.828317883043
Standard Deviation Values: 37.574297083341
Object ID Field:
Fields:
None
Default Mosaic Method: Center
Allowed Mosaic Methods:
SortField:
SortValue: null
Mosaic Operator: First
Default Compression Quality: 75
Default Resampling Method: Bilinear
Max Record Count: null
Max Image Height: 4100
Max Image Width: 15000
Max Download Image Count: null
Max Mosaic Image Count: null
Allow Raster Function: true
Allow Copy: true
Allow Analysis: true
Allow Compute TiePoints: false
Supports Statistics: false
Supports Advanced Queries: false
Use StandardizedQueries: true
Raster Type Infos:
Name: Raster Dataset
Description: Supports all ArcGIS Raster Datasets
Help:
Has Raster Attribute Table: true
Edit Fields Info: null
Ownership Based AccessControl For Rasters: null
Child Resources:
Info
Raster Attribute Table
Statistics
Key Properties
Legend
Raster Function Infos
Supported Operations:
Export Image
Identify
Measure
Compute Histograms
Compute Statistics Histograms
Get Samples
Compute Class Statistics
Query Boundary
Compute Pixel Location
Compute Angles
Validate
Project