View In:
ArcGIS JavaScript
ArcGIS Online Map Viewer
ArcGIS Earth
Service Description: Survey/20210107_Hicks
Name: Survey/20210107_Hicks
Description:
Single Fused Map Cache: false
Extent:
XMin: 6115589.626198587
YMin: 2213746.772536315
XMax: 6116978.040931487
YMax: 2214921.897104115
Spatial Reference: 0
(0)
LatestVCSWkid(0)
Initial Extent:
XMin: 6115589.626198587
YMin: 2213746.772536315
XMax: 6116978.040931487
YMax: 2214921.897104115
Spatial Reference: 0
(0)
LatestVCSWkid(0)
Full Extent:
XMin: 6115589.626198587
YMin: 2213746.772536315
XMax: 6116978.040931487
YMax: 2214921.897104115
Spatial Reference: 0
(0)
LatestVCSWkid(0)
Pixel Size X: 0.06242030000002015
Pixel Size Y: 0.062420300000010705
Band Count: 4
Pixel Type: U8
RasterFunction Infos: {"rasterFunctionInfos": [
{
"name": "RGB Aliso Alpha Composite",
"description": "A raster function template.",
"help": ""
},
{
"name": "None",
"description": "",
"help": ""
}
]}
Mensuration Capabilities: Basic
Inspection Capabilities:
Has Histograms: true
Has Colormap: false
Has Multi Dimensions : false
Rendering Rule:
Min Scale: 0
Max Scale: 0
Resampling: false
Copyright Text: OC Survey
Service Data Type: esriImageServiceDataTypeGeneric
Min Values: 0, 0, 0, 0
Max Values: 255, 255, 255, 255
Mean Values: 87.053837656559, 76.957552288106, 70.872819965631, 210.81329752654
Standard Deviation Values: 61.001743970242, 55.505138371688, 50.039006050065, 96.514996127528
Object ID Field:
Fields:
None
Default Mosaic Method: Center
Allowed Mosaic Methods:
SortField:
SortValue: null
Mosaic Operator: First
Default Compression Quality: 75
Default Resampling Method: Bilinear
Max Record Count: null
Max Image Height: 4100
Max Image Width: 15000
Max Download Image Count: null
Max Mosaic Image Count: null
Allow Raster Function: true
Allow Copy: true
Allow Analysis: true
Allow Compute TiePoints: false
Supports Statistics: false
Supports Advanced Queries: false
Use StandardizedQueries: true
Raster Type Infos:
Name: Raster Dataset
Description: Supports all ArcGIS Raster Datasets
Help:
Has Raster Attribute Table: false
Edit Fields Info: null
Ownership Based AccessControl For Rasters: null
Child Resources:
Info
Histograms
Statistics
Key Properties
Legend
Raster Function Infos
Supported Operations:
Export Image
Identify
Measure
Compute Histograms
Compute Statistics Histograms
Get Samples
Compute Class Statistics
Query Boundary
Compute Pixel Location
Compute Angles
Validate
Project