View In:
ArcGIS JavaScript
ArcGIS Online Map Viewer
ArcGIS Earth
Service Description: Katella Ave Pavement Overlay, 09/01/2020 and 12/10/2020 Survey Dates
Name: Survey/2020_Katella_Ave_Overlay_Both_Days
Description: Katella Ave Pavement Overlay, 09/01/2020 and 12/10/2020 Survey Dates
Single Fused Map Cache: false
Extent:
XMin: 6036429.932103587
YMin: 2240004.150781243
XMax: 6041376.232954787
YMax: 2240294.9239220433
Spatial Reference: 0
(0)
LatestVCSWkid(0)
Initial Extent:
XMin: 6036429.932103587
YMin: 2240004.150781243
XMax: 6041376.232954787
YMax: 2240294.9239220433
Spatial Reference: 0
(0)
LatestVCSWkid(0)
Full Extent:
XMin: 6036429.932103587
YMin: 2240004.150781243
XMax: 6041376.232954787
YMax: 2240294.9239220433
Spatial Reference: 0
(0)
LatestVCSWkid(0)
Pixel Size X: 0.03588019999999838
Pixel Size Y: 0.03588020000002289
Band Count: 4
Pixel Type: U8
RasterFunction Infos: {"rasterFunctionInfos": [
{
"name": "RGB Aliso Alpha Composite",
"description": "A raster function template.",
"help": ""
},
{
"name": "None",
"description": "",
"help": ""
}
]}
Mensuration Capabilities: Basic
Inspection Capabilities:
Has Histograms: false
Has Colormap: false
Has Multi Dimensions : false
Rendering Rule:
Min Scale: 0
Max Scale: 0
Resampling: false
Copyright Text: OC Survey
Service Data Type: esriImageServiceDataTypeGeneric
Min Values: N/A
Max Values: N/A
Mean Values: N/A
Standard Deviation Values: N/A
Object ID Field:
Fields:
None
Default Mosaic Method: Center
Allowed Mosaic Methods:
SortField:
SortValue: null
Mosaic Operator: First
Default Compression Quality: 75
Default Resampling Method: Bilinear
Max Record Count: null
Max Image Height: 4100
Max Image Width: 15000
Max Download Image Count: null
Max Mosaic Image Count: null
Allow Raster Function: true
Allow Copy: true
Allow Analysis: true
Allow Compute TiePoints: false
Supports Statistics: false
Supports Advanced Queries: false
Use StandardizedQueries: true
Raster Type Infos:
Name: Raster Dataset
Description: Supports all ArcGIS Raster Datasets
Help:
Has Raster Attribute Table: false
Edit Fields Info: null
Ownership Based AccessControl For Rasters: null
Child Resources:
Info
Statistics
Key Properties
Legend
Raster Function Infos
Supported Operations:
Export Image
Identify
Measure
Compute Histograms
Compute Statistics Histograms
Get Samples
Compute Class Statistics
Query Boundary
Compute Pixel Location
Compute Angles
Validate
Project