View In:
ArcGIS JavaScript
ArcGIS Online Map Viewer
ArcGIS Earth
Service Description: 20200804 East Tustin AC Pavement Resurfacing
Name: Survey/20200804_Tustin_Roads_Small_Scale
Description: 20200804 East Tustin AC Pavement Resurfacing
Single Fused Map Cache: true
Tile Info:
- Height: 512
- Width: 512
- DPI: 96
-
Levels of Detail: 14
- Format: PNG32
- Compression Quality: 0.0
- LERC Error: NaN
- Origin: X: -1.186089E8
Y: 1.5908159999999997E8
- Spatial Reference: 102646
(2230)
LatestVCSWkid(0)
Storage Info:
- Storage Format: esriMapCacheStorageModeCompactV2
- Packet Size: 128
Extent:
XMin: 6087805.446431301
YMin: 2218224.5797573575
XMax: 6089760.940163701
YMax: 2221932.7788475575
Spatial Reference: 0
(0)
LatestVCSWkid(0)
Initial Extent:
XMin: 6087805.446431301
YMin: 2218224.5797573575
XMax: 6089760.940163701
YMax: 2221932.7788475575
Spatial Reference: 0
(0)
LatestVCSWkid(0)
Full Extent:
XMin: 6087805.446431301
YMin: 2218224.5797573575
XMax: 6089760.940163701
YMax: 2221932.7788475575
Spatial Reference: 0
(0)
LatestVCSWkid(0)
Pixel Size X: 0.034405900000004194
Pixel Size Y: 0.0344059000000001
Band Count: 4
Pixel Type: U8
RasterFunction Infos: {"rasterFunctionInfos": [
{
"name": "None",
"description": "Make a Raster or Raster Dataset into a Function Raster Dataset.",
"help": ""
},
{
"name": "RGB Composite_Aliso",
"description": "A raster function template.",
"help": ""
},
{
"name": "RGB Composite_No_Data",
"description": "A raster function template.",
"help": ""
}
]}
Mensuration Capabilities: Basic
Inspection Capabilities:
Has Histograms: true
Has Colormap: false
Has Multi Dimensions : false
Rendering Rule:
Min Scale: 512000
Max Scale: 62.5
Min LOD: 0
Max LOD: 13
Copyright Text: OC Survey
Service Data Type: esriImageServiceDataTypeGeneric
Min Values: 0, 0, 0, 0
Max Values: 255, 255, 255, 255
Mean Values: 34.712255384033, 35.121515219048, 30.436177173238, 64.289556955088
Standard Deviation Values: 64.290784624027, 64.026427340783, 58.563049504596, 110.72799958498
Object ID Field:
Fields:
None
Default Mosaic Method: Center
Allowed Mosaic Methods:
SortField:
SortValue: null
Mosaic Operator: First
Default Compression Quality: 75
Default Resampling Method: Bilinear
Max Record Count: null
Max Image Height: 4100
Max Image Width: 15000
Max Download Image Count: null
Max Mosaic Image Count: null
Allow Raster Function: true
Allow Copy: true
Allow Analysis: true
Allow Compute TiePoints: false
Supports Statistics: false
Supports Advanced Queries: false
Use StandardizedQueries: true
Raster Type Infos:
Name: Raster Dataset
Description: Supports all ArcGIS Raster Datasets
Help:
Has Raster Attribute Table: false
Edit Fields Info: null
Ownership Based AccessControl For Rasters: null
Child Resources:
Info
Histograms
Statistics
Key Properties
Legend
Raster Function Infos
Supported Operations:
Export Image
Identify
Measure
Compute Histograms
Compute Statistics Histograms
Get Samples
Compute Class Statistics
Query Boundary
Compute Pixel Location
Compute Angles
Validate
Project