View In:
ArcGIS JavaScript
ArcGIS Online Map Viewer
ArcGIS Earth
Service Description: Survey/20190508_Building_16_ortho
Name: Survey/20190508_Building_16_ortho
Description:
Single Fused Map Cache: false
Extent:
XMin: 6068433.090578732
YMin: 2220023.782501222
XMax: 6068996.1530997325
YMax: 2220672.040381222
Spatial Reference: 0
(0)
LatestVCSWkid(0)
Initial Extent:
XMin: 6068433.090578732
YMin: 2220023.782501222
XMax: 6068996.1530997325
YMax: 2220672.040381222
Spatial Reference: 0
(0)
LatestVCSWkid(0)
Full Extent:
XMin: 6068433.090578732
YMin: 2220023.782501222
XMax: 6068996.1530997325
YMax: 2220672.040381222
Spatial Reference: 0
(0)
LatestVCSWkid(0)
Pixel Size X: 0.04956100000003457
Pixel Size Y: 0.0495609999999948
Band Count: 4
Pixel Type: U8
RasterFunction Infos: {"rasterFunctionInfos": [
{
"name": "None",
"description": "Make a Raster or Raster Dataset into a Function Raster Dataset.",
"help": ""
},
{
"name": "RGB Composite_Aliso",
"description": "A raster function template.",
"help": ""
}
]}
Mensuration Capabilities: Basic
Inspection Capabilities:
Has Histograms: false
Has Colormap: false
Has Multi Dimensions : false
Rendering Rule:
Min Scale: 0
Max Scale: 0
Resampling: false
Copyright Text: OC Survey
Service Data Type: esriImageServiceDataTypeGeneric
Min Values: N/A
Max Values: N/A
Mean Values: N/A
Standard Deviation Values: N/A
Object ID Field:
Fields:
None
Default Mosaic Method: Center
Allowed Mosaic Methods:
SortField:
SortValue: null
Mosaic Operator: First
Default Compression Quality: 75
Default Resampling Method: Bilinear
Max Record Count: null
Max Image Height: 4100
Max Image Width: 15000
Max Download Image Count: null
Max Mosaic Image Count: null
Allow Raster Function: true
Allow Copy: true
Allow Analysis: true
Allow Compute TiePoints: false
Supports Statistics: false
Supports Advanced Queries: false
Use StandardizedQueries: true
Raster Type Infos:
Name: Raster Dataset
Description: Supports all ArcGIS Raster Datasets
Help:
Has Raster Attribute Table: false
Edit Fields Info: null
Ownership Based AccessControl For Rasters: null
Child Resources:
Info
Statistics
Key Properties
Legend
Raster Function Infos
Supported Operations:
Export Image
Identify
Measure
Compute Histograms
Compute Statistics Histograms
Get Samples
Compute Class Statistics
Query Boundary
Compute Pixel Location
Compute Angles
Validate
Project