View In:
ArcGIS JavaScript
ArcGIS Online Map Viewer
ArcGIS Earth
Service Description: Aliso Fire Burn Area (06/05/2018 Survey)
Name: Parks/20180605_Aliso_Fire_LOKI
Description: Aliso Fire Burn Area (06/05/2018 Survey)
Single Fused Map Cache: false
Extent:
XMin: 6104717.30204134
YMin: 2145209.43636044
XMax: 6108984.35510634
YMax: 2149970.18499044
Spatial Reference: 0
(0)
LatestVCSWkid(0)
Initial Extent:
XMin: 6104717.30204134
YMin: 2145209.43636044
XMax: 6108984.35510634
YMax: 2149970.18499044
Spatial Reference: 0
(0)
LatestVCSWkid(0)
Full Extent:
XMin: 6104717.30204134
YMin: 2145209.43636044
XMax: 6108984.35510634
YMax: 2149970.18499044
Spatial Reference: 0
(0)
LatestVCSWkid(0)
Pixel Size X: 0.17550500000000419
Pixel Size Y: 0.17550499999999308
Band Count: 3
Pixel Type: U8
RasterFunction Infos: {"rasterFunctionInfos": [
{
"name": "RGB Composite_Aliso",
"description": "A raster function template.",
"help": ""
},
{
"name": "None",
"description": "",
"help": ""
}
]}
Mensuration Capabilities: Basic
Inspection Capabilities:
Has Histograms: true
Has Colormap: false
Has Multi Dimensions : false
Rendering Rule:
Min Scale: 0
Max Scale: 0
Resampling: false
Copyright Text: OC Survey
Service Data Type: esriImageServiceDataTypeRGB
Min Values: 1, 1, 1
Max Values: 255, 255, 255
Mean Values: 113.76249047084, 115.39876670402, 110.3546506531
Standard Deviation Values: 40.778817568831, 37.058038144741, 40.220868849679
Object ID Field:
Fields:
None
Default Mosaic Method: Center
Allowed Mosaic Methods:
SortField:
SortValue: null
Mosaic Operator: First
Default Compression Quality: 75
Default Resampling Method: Bilinear
Max Record Count: null
Max Image Height: 4100
Max Image Width: 15000
Max Download Image Count: null
Max Mosaic Image Count: null
Allow Raster Function: true
Allow Copy: true
Allow Analysis: true
Allow Compute TiePoints: false
Supports Statistics: false
Supports Advanced Queries: false
Use StandardizedQueries: true
Raster Type Infos:
Name: Raster Dataset
Description: Supports all ArcGIS Raster Datasets
Help:
Has Raster Attribute Table: false
Edit Fields Info: null
Ownership Based AccessControl For Rasters: null
Child Resources:
Info
Histograms
Statistics
Key Properties
Legend
Raster Function Infos
Supported Operations:
Export Image
Identify
Measure
Compute Histograms
Compute Statistics Histograms
Get Samples
Compute Class Statistics
Query Boundary
Compute Pixel Location
Compute Angles
Validate
Project